Workbook

Sheet Pool
A1: Guard ID | B1: Selected-Site Result | K1: Site qualification controls | L1: Fictional examples only
A2: =IF(Guards!A2="","",Guards!A2) | B2: =IF(A2="","",IFERROR(IF(OR(COUNTIF(Sites!$A$2:$A$21,$L$2)<>1,NOT(IFERROR(AND(ISNUMBER($L$3),$L$3=INT($L$3),$L$3>=1,$L$3<=2958465),FALSE))),"Review settings",IF(COUNTIFS(Approvals!$A$2:$A$101,A2,Approvals!$B$2:$B$101,$L$2,Approvals!$I$2:$I$101,"Eligible")=1,"Qualified","Not qualified")),"Review settings")) | K2: Selected Site | L2: FS01
A3: =IF(Guards!A3="","",Guards!A3) | B3: =IF(A3="","",IFERROR(IF(OR(COUNTIF(Sites!$A$2:$A$21,$L$2)<>1,NOT(IFERROR(AND(ISNUMBER($L$3),$L$3=INT($L$3),$L$3>=1,$L$3<=2958465),FALSE))),"Review settings",IF(COUNTIFS(Approvals!$A$2:$A$101,A3,Approvals!$B$2:$B$101,$L$2,Approvals!$I$2:$I$101,"Eligible")=1,"Qualified","Not qualified")),"Review settings")) | K3: Assessment Date | L3: =TODAY()
A4: =IF(Guards!A4="","",Guards!A4) | B4: =IF(A4="","",IFERROR(IF(OR(COUNTIF(Sites!$A$2:$A$21,$L$2)<>1,NOT(IFERROR(AND(ISNUMBER($L$3),$L$3=INT($L$3),$L$3>=1,$L$3<=2958465),FALSE))),"Review settings",IF(COUNTIFS(Approvals!$A$2:$A$101,A4,Approvals!$B$2:$B$101,$L$2,Approvals!$I$2:$I$101,"Eligible")=1,"Qualified","Not qualified")),"Review settings"))
A5: =IF(Guards!A5="","",Guards!A5) | B5: =IF(A5="","",IFERROR(IF(OR(COUNTIF(Sites!$A$2:$A$21,$L$2)<>1,NOT(IFERROR(AND(ISNUMBER($L$3),$L$3=INT($L$3),$L$3>=1,$L$3<=2958465),FALSE))),"Review settings",IF(COUNTIFS(Approvals!$A$2:$A$101,A5,Approvals!$B$2:$B$101,$L$2,Approvals!$I$2:$I$101,"Eligible")=1,"Qualified","Not qualified")),"Review settings")) | K5: Qualified Guard Count | L5: =IFERROR(IF(OR(COUNTIF(Sites!$A$2:$A$21,$L$2)<>1,NOT(IFERROR(AND(ISNUMBER($L$3),$L$3=INT($L$3),$L$3>=1,$L$3<=2958465),FALSE))),"",COUNTIF(B2:B101,"Qualified")),"")
A6: =IF(Guards!A6="","",Guards!A6) | B6: =IF(A6="","",IFERROR(IF(OR(COUNTIF(Sites!$A$2:$A$21,$L$2)<>1,NOT(IFERROR(AND(ISNUMBER($L$3),$L$3=INT($L$3),$L$3>=1,$L$3<=2958465),FALSE))),"Review settings",IF(COUNTIFS(Approvals!$A$2:$A$101,A6,Approvals!$B$2:$B$101,$L$2,Approvals!$I$2:$I$101,"Eligible")=1,"Qualified","Not qualified")),"Review settings")) | K6: Approval Rows Requiring Review | L6: =COUNTIF(Approvals!I2:I101,"Review")
A7: =IF(Guards!A7="","",Guards!A7) | B7: =IF(A7="","",IFERROR(IF(OR(COUNTIF(Sites!$A$2:$A$21,$L$2)<>1,NOT(IFERROR(AND(ISNUMBER($L$3),$L$3=INT($L$3),$L$3>=1,$L$3<=2958465),FALSE))),"Review settings",IF(COUNTIFS(Approvals!$A$2:$A$101,A7,Approvals!$B$2:$B$101,$L$2,Approvals!$I$2:$I$101,"Eligible")=1,"Qualified","Not qualified")),"Review settings"))
A8: =IF(Guards!A8="","",Guards!A8) | B8: =IF(A8="","",IFERROR(IF(OR(COUNTIF(Sites!$A$2:$A$21,$L$2)<>1,NOT(IFERROR(AND(ISNUMBER($L$3),$L$3=INT($L$3),$L$3>=1,$L$3<=2958465),FALSE))),"Review settings",IF(COUNTIFS(Approvals!$A$2:$A$101,A8,Approvals!$B$2:$B$101,$L$2,Approvals!$I$2:$I$101,"Eligible")=1,"Qualified","Not qualified")),"Review settings")) | K8: Decision guide | L8: Read before filtering the pool
A9: =IF(Guards!A9="","",Guards!A9) | B9: =IF(A9="","",IFERROR(IF(OR(COUNTIF(Sites!$A$2:$A$21,$L$2)<>1,NOT(IFERROR(AND(ISNUMBER($L$3),$L$3=INT($L$3),$L$3>=1,$L$3<=2958465),FALSE))),"Review settings",IF(COUNTIFS(Approvals!$A$2:$A$101,A9,Approvals!$B$2:$B$101,$L$2,Approvals!$I$2:$I$101,"Eligible")=1,"Qualified","Not qualified")),"Review settings")) | K9: Purpose | L9: Identify guards to consider for assignment at the selected site and date; this is not a schedule.
A10: =IF(Guards!A10="","",Guards!A10) | B10: =IF(A10="","",IFERROR(IF(OR(COUNTIF(Sites!$A$2:$A$21,$L$2)<>1,NOT(IFERROR(AND(ISNUMBER($L$3),$L$3=INT($L$3),$L$3>=1,$L$3<=2958465),FALSE))),"Review settings",IF(COUNTIFS(Approvals!$A$2:$A$101,A10,Approvals!$B$2:$B$101,$L$2,Approvals!$I$2:$I$101,"Eligible")=1,"Qualified","Not qualified")),"Review settings")) | K10: Meaning of Qualified | L10: The recorded induction approval passes this workbook's checks. It is not an automated assessment of evidence.
A11: =IF(Guards!A11="","",Guards!A11) | B11: =IF(A11="","",IFERROR(IF(OR(COUNTIF(Sites!$A$2:$A$21,$L$2)<>1,NOT(IFERROR(AND(ISNUMBER($L$3),$L$3=INT($L$3),$L$3>=1,$L$3<=2958465),FALSE))),"Review settings",IF(COUNTIFS(Approvals!$A$2:$A$101,A11,Approvals!$B$2:$B$101,$L$2,Approvals!$I$2:$I$101,"Eligible")=1,"Qualified","Not qualified")),"Review settings")) | K11: Not established | L11: Attendance, availability, licensing, overall suitability, staffing sufficiency and schedule compatibility are not established.
A12: =IF(Guards!A12="","",Guards!A12) | B12: =IF(A12="","",IFERROR(IF(OR(COUNTIF(Sites!$A$2:$A$21,$L$2)<>1,NOT(IFERROR(AND(ISNUMBER($L$3),$L$3=INT($L$3),$L$3>=1,$L$3<=2958465),FALSE))),"Review settings",IF(COUNTIFS(Approvals!$A$2:$A$101,A12,Approvals!$B$2:$B$101,$L$2,Approvals!$I$2:$I$101,"Eligible")=1,"Qualified","Not qualified")),"Review settings")) | K12: How to use | L12: Review alerts, confirm editable assumptions, then filter Selected-Site Result to Qualified. Review count covers all sites.
A13: =IF(Guards!A13="","",Guards!A13) | B13: =IF(A13="","",IFERROR(IF(OR(COUNTIF(Sites!$A$2:$A$21,$L$2)<>1,NOT(IFERROR(AND(ISNUMBER($L$3),$L$3=INT($L$3),$L$3>=1,$L$3<=2958465),FALSE))),"Review settings",IF(COUNTIFS(Approvals!$A$2:$A$101,A13,Approvals!$B$2:$B$101,$L$2,Approvals!$I$2:$I$101,"Eligible")=1,"Qualified","Not qualified")),"Review settings")) | K13: Current decisions only | L13: Keep one current approval per guard–site pair. Keep history outside this workbook. Duplicate pairs are excluded pending review.
A14: =IF(Guards!A14="","",Guards!A14) | B14: =IF(A14="","",IFERROR(IF(OR(COUNTIF(Sites!$A$2:$A$21,$L$2)<>1,NOT(IFERROR(AND(ISNUMBER($L$3),$L$3=INT($L$3),$L$3>=1,$L$3<=2958465),FALSE))),"Review settings",IF(COUNTIFS(Approvals!$A$2:$A$101,A14,Approvals!$B$2:$B$101,$L$2,Approvals!$I$2:$I$101,"Eligible")=1,"Qualified","Not qualified")),"Review settings")) | K14: Validity | L14: Both endpoint dates are included. For evidence without expiration, enter an explicitly agreed review-through date.
A15: =IF(Guards!A15="","",Guards!A15) | B15: =IF(A15="","",IFERROR(IF(OR(COUNTIF(Sites!$A$2:$A$21,$L$2)<>1,NOT(IFERROR(AND(ISNUMBER($L$3),$L$3=INT($L$3),$L$3>=1,$L$3<=2958465),FALSE))),"Review settings",IF(COUNTIFS(Approvals!$A$2:$A$101,A15,Approvals!$B$2:$B$101,$L$2,Approvals!$I$2:$I$101,"Eligible")=1,"Qualified","Not qualified")),"Review settings")) | K15: Editable assumptions | L15: Cream cells are inputs: active flags, required versions, decisions, validity dates, selected site and assessment date.
A16: =IF(Guards!A16="","",Guards!A16) | B16: =IF(A16="","",IFERROR(IF(OR(COUNTIF(Sites!$A$2:$A$21,$L$2)<>1,NOT(IFERROR(AND(ISNUMBER($L$3),$L$3=INT($L$3),$L$3>=1,$L$3<=2958465),FALSE))),"Review settings",IF(COUNTIFS(Approvals!$A$2:$A$101,A16,Approvals!$B$2:$B$101,$L$2,Approvals!$I$2:$I$101,"Eligible")=1,"Qualified","Not qualified")),"Review settings")) | K16: Review safeguards | L16: Pasting can bypass validation. Duplicate IDs or pairs, missing fields, unknown IDs and invalid dates require review.
A17: =IF(Guards!A17="","",Guards!A17) | B17: =IF(A17="","",IFERROR(IF(OR(COUNTIF(Sites!$A$2:$A$21,$L$2)<>1,NOT(IFERROR(AND(ISNUMBER($L$3),$L$3=INT($L$3),$L$3>=1,$L$3<=2958465),FALSE))),"Review settings",IF(COUNTIFS(Approvals!$A$2:$A$101,A17,Approvals!$B$2:$B$101,$L$2,Approvals!$I$2:$I$101,"Eligible")=1,"Qualified","Not qualified")),"Review settings")) | K17: Formula cells | L17: Non-cream result cells contain formulas. They are intentionally not sheet-protected; avoid overwriting them.
A18: =IF(Guards!A18="","",Guards!A18) | B18: =IF(A18="","",IFERROR(IF(OR(COUNTIF(Sites!$A$2:$A$21,$L$2)<>1,NOT(IFERROR(AND(ISNUMBER($L$3),$L$3=INT($L$3),$L$3>=1,$L$3<=2958465),FALSE))),"Review settings",IF(COUNTIFS(Approvals!$A$2:$A$101,A18,Approvals!$B$2:$B$101,$L$2,Approvals!$I$2:$I$101,"Eligible")=1,"Qualified","Not qualified")),"Review settings")) | K18: Result colors | L18: Green: Qualified or Eligible. Amber: Review or Review settings. Light red: Not qualified, Not eligible or duplicate records.
A19: =IF(Guards!A19="","",Guards!A19) | B19: =IF(A19="","",IFERROR(IF(OR(COUNTIF(Sites!$A$2:$A$21,$L$2)<>1,NOT(IFERROR(AND(ISNUMBER($L$3),$L$3=INT($L$3),$L$3>=1,$L$3<=2958465),FALSE))),"Review settings",IF(COUNTIFS(Approvals!$A$2:$A$101,A19,Approvals!$B$2:$B$101,$L$2,Approvals!$I$2:$I$101,"Eligible")=1,"Qualified","Not qualified")),"Review settings")) | K19: Fictional reference date | L19: 46294
A20: =IF(Guards!A20="","",Guards!A20) | B20: =IF(A20="","",IFERROR(IF(OR(COUNTIF(Sites!$A$2:$A$21,$L$2)<>1,NOT(IFERROR(AND(ISNUMBER($L$3),$L$3=INT($L$3),$L$3>=1,$L$3<=2958465),FALSE))),"Review settings",IF(COUNTIFS(Approvals!$A$2:$A$101,A20,Approvals!$B$2:$B$101,$L$2,Approvals!$I$2:$I$101,"Eligible")=1,"Qualified","Not qualified")),"Review settings")) | K20: Fictional benchmark | L20: At the reference date: FS01 has 2 qualified guards, FS02 has 1, FS03 has 0. Approval rows requiring review: 1.
A21: =IF(Guards!A21="","",Guards!A21) | B21: =IF(A21="","",IFERROR(IF(OR(COUNTIF(Sites!$A$2:$A$21,$L$2)<>1,NOT(IFERROR(AND(ISNUMBER($L$3),$L$3=INT($L$3),$L$3>=1,$L$3<=2958465),FALSE))),"Review settings",IF(COUNTIFS(Approvals!$A$2:$A$101,A21,Approvals!$B$2:$B$101,$L$2,Approvals!$I$2:$I$101,"Eligible")=1,"Qualified","Not qualified")),"Review settings")) | K21: Recalculation | L21: Automatic recalculation is requested. Open in Excel or LibreOffice and recalculate before using results; cached results are not supplied.
A22: =IF(Guards!A22="","",Guards!A22) | B22: =IF(A22="","",IFERROR(IF(OR(COUNTIF(Sites!$A$2:$A$21,$L$2)<>1,NOT(IFERROR(AND(ISNUMBER($L$3),$L$3=INT($L$3),$L$3>=1,$L$3<=2958465),FALSE))),"Review settings",IF(COUNTIFS(Approvals!$A$2:$A$101,A22,Approvals!$B$2:$B$101,$L$2,Approvals!$I$2:$I$101,"Eligible")=1,"Qualified","Not qualified")),"Review settings")) | K22: Checks performed by this script | L22: Python decision-model and workbook-structure checks run before saving. They are not spreadsheet-engine recalculation tests.
A23: =IF(Guards!A23="","",Guards!A23) | B23: =IF(A23="","",IFERROR(IF(OR(COUNTIF(Sites!$A$2:$A$21,$L$2)<>1,NOT(IFERROR(AND(ISNUMBER($L$3),$L$3=INT($L$3),$L$3>=1,$L$3<=2958465),FALSE))),"Review settings",IF(COUNTIFS(Approvals!$A$2:$A$101,A23,Approvals!$B$2:$B$101,$L$2,Approvals!$I$2:$I$101,"Eligible")=1,"Qualified","Not qualified")),"Review settings")) | K23: Date behavior | L23: Assessment Date starts as TODAY() and changes with the date. Enter the fictional reference date to reproduce the benchmark.
A24: =IF(Guards!A24="","",Guards!A24) | B24: =IF(A24="","",IFERROR(IF(OR(COUNTIF(Sites!$A$2:$A$21,$L$2)<>1,NOT(IFERROR(AND(ISNUMBER($L$3),$L$3=INT($L$3),$L$3>=1,$L$3<=2958465),FALSE))),"Review settings",IF(COUNTIFS(Approvals!$A$2:$A$101,A24,Approvals!$B$2:$B$101,$L$2,Approvals!$I$2:$I$101,"Eligible")=1,"Qualified","Not qualified")),"Review settings"))
A25: =IF(Guards!A25="","",Guards!A25) | B25: =IF(A25="","",IFERROR(IF(OR(COUNTIF(Sites!$A$2:$A$21,$L$2)<>1,NOT(IFERROR(AND(ISNUMBER($L$3),$L$3=INT($L$3),$L$3>=1,$L$3<=2958465),FALSE))),"Review settings",IF(COUNTIFS(Approvals!$A$2:$A$101,A25,Approvals!$B$2:$B$101,$L$2,Approvals!$I$2:$I$101,"Eligible")=1,"Qualified","Not qualified")),"Review settings"))
A26: =IF(Guards!A26="","",Guards!A26) | B26: =IF(A26="","",IFERROR(IF(OR(COUNTIF(Sites!$A$2:$A$21,$L$2)<>1,NOT(IFERROR(AND(ISNUMBER($L$3),$L$3=INT($L$3),$L$3>=1,$L$3<=2958465),FALSE))),"Review settings",IF(COUNTIFS(Approvals!$A$2:$A$101,A26,Approvals!$B$2:$B$101,$L$2,Approvals!$I$2:$I$101,"Eligible")=1,"Qualified","Not qualified")),"Review settings"))
A27: =IF(Guards!A27="","",Guards!A27) | B27: =IF(A27="","",IFERROR(IF(OR(COUNTIF(Sites!$A$2:$A$21,$L$2)<>1,NOT(IFERROR(AND(ISNUMBER($L$3),$L$3=INT($L$3),$L$3>=1,$L$3<=2958465),FALSE))),"Review settings",IF(COUNTIFS(Approvals!$A$2:$A$101,A27,Approvals!$B$2:$B$101,$L$2,Approvals!$I$2:$I$101,"Eligible")=1,"Qualified","Not qualified")),"Review settings"))
A28: =IF(Guards!A28="","",Guards!A28) | B28: =IF(A28="","",IFERROR(IF(OR(COUNTIF(Sites!$A$2:$A$21,$L$2)<>1,NOT(IFERROR(AND(ISNUMBER($L$3),$L$3=INT($L$3),$L$3>=1,$L$3<=2958465),FALSE))),"Review settings",IF(COUNTIFS(Approvals!$A$2:$A$101,A28,Approvals!$B$2:$B$101,$L$2,Approvals!$I$2:$I$101,"Eligible")=1,"Qualified","Not qualified")),"Review settings"))
A29: =IF(Guards!A29="","",Guards!A29) | B29: =IF(A29="","",IFERROR(IF(OR(COUNTIF(Sites!$A$2:$A$21,$L$2)<>1,NOT(IFERROR(AND(ISNUMBER($L$3),$L$3=INT($L$3),$L$3>=1,$L$3<=2958465),FALSE))),"Review settings",IF(COUNTIFS(Approvals!$A$2:$A$101,A29,Approvals!$B$2:$B$101,$L$2,Approvals!$I$2:$I$101,"Eligible")=1,"Qualified","Not qualified")),"Review settings"))
A30: =IF(Guards!A30="","",Guards!A30) | B30: =IF(A30="","",IFERROR(IF(OR(COUNTIF(Sites!$A$2:$A$21,$L$2)<>1,NOT(IFERROR(AND(ISNUMBER($L$3),$L$3=INT($L$3),$L$3>=1,$L$3<=2958465),FALSE))),"Review settings",IF(COUNTIFS(Approvals!$A$2:$A$101,A30,Approvals!$B$2:$B$101,$L$2,Approvals!$I$2:$I$101,"Eligible")=1,"Qualified","Not qualified")),"Review settings"))
A31: =IF(Guards!A31="","",Guards!A31) | B31: =IF(A31="","",IFERROR(IF(OR(COUNTIF(Sites!$A$2:$A$21,$L$2)<>1,NOT(IFERROR(AND(ISNUMBER($L$3),$L$3=INT($L$3),$L$3>=1,$L$3<=2958465),FALSE))),"Review settings",IF(COUNTIFS(Approvals!$A$2:$A$101,A31,Approvals!$B$2:$B$101,$L$2,Approvals!$I$2:$I$101,"Eligible")=1,"Qualified","Not qualified")),"Review settings"))
A32: =IF(Guards!A32="","",Guards!A32) | B32: =IF(A32="","",IFERROR(IF(OR(COUNTIF(Sites!$A$2:$A$21,$L$2)<>1,NOT(IFERROR(AND(ISNUMBER($L$3),$L$3=INT($L$3),$L$3>=1,$L$3<=2958465),FALSE))),"Review settings",IF(COUNTIFS(Approvals!$A$2:$A$101,A32,Approvals!$B$2:$B$101,$L$2,Approvals!$I$2:$I$101,"Eligible")=1,"Qualified","Not qualified")),"Review settings"))
A33: =IF(Guards!A33="","",Guards!A33) | B33: =IF(A33="","",IFERROR(IF(OR(COUNTIF(Sites!$A$2:$A$21,$L$2)<>1,NOT(IFERROR(AND(ISNUMBER($L$3),$L$3=INT($L$3),$L$3>=1,$L$3<=2958465),FALSE))),"Review settings",IF(COUNTIFS(Approvals!$A$2:$A$101,A33,Approvals!$B$2:$B$101,$L$2,Approvals!$I$2:$I$101,"Eligible")=1,"Qualified","Not qualified")),"Review settings"))
A34: =IF(Guards!A34="","",Guards!A34) | B34: =IF(A34="","",IFERROR(IF(OR(COUNTIF(Sites!$A$2:$A$21,$L$2)<>1,NOT(IFERROR(AND(ISNUMBER($L$3),$L$3=INT($L$3),$L$3>=1,$L$3<=2958465),FALSE))),"Review settings",IF(COUNTIFS(Approvals!$A$2:$A$101,A34,Approvals!$B$2:$B$101,$L$2,Approvals!$I$2:$I$101,"Eligible")=1,"Qualified","Not qualified")),"Review settings"))
A35: =IF(Guards!A35="","",Guards!A35) | B35: =IF(A35="","",IFERROR(IF(OR(COUNTIF(Sites!$A$2:$A$21,$L$2)<>1,NOT(IFERROR(AND(ISNUMBER($L$3),$L$3=INT($L$3),$L$3>=1,$L$3<=2958465),FALSE))),"Review settings",IF(COUNTIFS(Approvals!$A$2:$A$101,A35,Approvals!$B$2:$B$101,$L$2,Approvals!$I$2:$I$101,"Eligible")=1,"Qualified","Not qualified")),"Review settings"))
... A101: =IF(Guards!A101="","",Guards!A101) | B101: =IF(A101="","",IFERROR(IF(OR(COUNTIF(Sites!$A$2:$A$21,$L$2)<>1,NOT(IFERROR(AND(ISNUMBER($L$3),$L$3=INT($L$3),$L$3>=1,$L$3<=2958465),FALSE))),"Review settings",IF(COUNTIFS(Approvals!$A$2:$A$101,A101,Approvals!$B$2:$B$101,$L$2,Approvals!$I$2:$I$101,"Eligible")=1,"Qualified","Not qualified")),"Review settings"))

Sheet Approvals
A1: Guard ID | B1: Site ID | C1: Induction Version | D1: Decision | E1: Valid From | F1: Valid Through | G1: Evidence Reference | H1: Reviewer Alias | I1: Eligibility Check
A2: FG01 | B2: FS01 | C2: V2 | D2: Approved | E2: 46284 | F2: 46324 | G2: Fictional evidence 01 | H2: Fictional reviewer A | I2: =IF(COUNTA(A2:H2)=0,"",IFERROR(IF(OR(COUNTA(A2:H2)<8,COUNTBLANK(A2:H2)>0,COUNTIF(Guards!$A$2:$A$101,A2)<>1,COUNTIF(Sites!$A$2:$A$21,B2)<>1,COUNTIFS($A$2:$A$101,A2,$B$2:$B$101,B2)<>1,NOT(IFERROR(AND(ISNUMBER(E2),E2=INT(E2),E2>=1,E2<=2958465),FALSE)),NOT(IFERROR(AND(ISNUMBER(F2),F2=INT(F2),F2>=1,F2<=2958465),FALSE)),F2<E2,NOT(IFERROR(AND(ISNUMBER(Pool!$L$3),Pool!$L$3=INT(Pool!$L$3),Pool!$L$3>=1,Pool!$L$3<=2958465),FALSE)),NOT(IFERROR(AND(ISTEXT(C2),LEN(TRIM(C2))>0),FALSE)),NOT(IFERROR(AND(ISTEXT(G2),LEN(TRIM(G2))>0),FALSE)),NOT(IFERROR(AND(ISTEXT(H2),LEN(TRIM(H2))>0),FALSE)),AND(D2<>"Approved",D2<>"Pending",D2<>"Withdrawn"),AND(VLOOKUP(A2,Guards!$A$2:$B$101,2,FALSE)<>"Yes",VLOOKUP(A2,Guards!$A$2:$B$101,2,FALSE)<>"No"),AND(VLOOKUP(B2,Sites!$A$2:$D$21,2,FALSE)<>"Yes",VLOOKUP(B2,Sites!$A$2:$D$21,2,FALSE)<>"No"),NOT(IFERROR(AND(ISTEXT(VLOOKUP(B2,Sites!$A$2:$D$21,3,FALSE)),LEN(TRIM(VLOOKUP(B2,Sites!$A$2:$D$21,3,FALSE)))>0),FALSE))),"Review",IF(AND(D2="Approved",E2<=Pool!$L$3,F2>=Pool!$L$3,VLOOKUP(A2,Guards!$A$2:$B$101,2,FALSE)="Yes",VLOOKUP(B2,Sites!$A$2:$D$21,2,FALSE)="Yes",C2=VLOOKUP(B2,Sites!$A$2:$D$21,3,FALSE)),"Eligible","Not eligible")),"Review"))
A3: FG02 | B3: FS01 | C3: V2 | D3: Approved | E3: 46284 | F3: 46293 | G3: Fictional evidence 02 | H3: Fictional reviewer A | I3: =IF(COUNTA(A3:H3)=0,"",IFERROR(IF(OR(COUNTA(A3:H3)<8,COUNTBLANK(A3:H3)>0,COUNTIF(Guards!$A$2:$A$101,A3)<>1,COUNTIF(Sites!$A$2:$A$21,B3)<>1,COUNTIFS($A$2:$A$101,A3,$B$2:$B$101,B3)<>1,NOT(IFERROR(AND(ISNUMBER(E3),E3=INT(E3),E3>=1,E3<=2958465),FALSE)),NOT(IFERROR(AND(ISNUMBER(F3),F3=INT(F3),F3>=1,F3<=2958465),FALSE)),F3<E3,NOT(IFERROR(AND(ISNUMBER(Pool!$L$3),Pool!$L$3=INT(Pool!$L$3),Pool!$L$3>=1,Pool!$L$3<=2958465),FALSE)),NOT(IFERROR(AND(ISTEXT(C3),LEN(TRIM(C3))>0),FALSE)),NOT(IFERROR(AND(ISTEXT(G3),LEN(TRIM(G3))>0),FALSE)),NOT(IFERROR(AND(ISTEXT(H3),LEN(TRIM(H3))>0),FALSE)),AND(D3<>"Approved",D3<>"Pending",D3<>"Withdrawn"),AND(VLOOKUP(A3,Guards!$A$2:$B$101,2,FALSE)<>"Yes",VLOOKUP(A3,Guards!$A$2:$B$101,2,FALSE)<>"No"),AND(VLOOKUP(B3,Sites!$A$2:$D$21,2,FALSE)<>"Yes",VLOOKUP(B3,Sites!$A$2:$D$21,2,FALSE)<>"No"),NOT(IFERROR(AND(ISTEXT(VLOOKUP(B3,Sites!$A$2:$D$21,3,FALSE)),LEN(TRIM(VLOOKUP(B3,Sites!$A$2:$D$21,3,FALSE)))>0),FALSE))),"Review",IF(AND(D3="Approved",E3<=Pool!$L$3,F3>=Pool!$L$3,VLOOKUP(A3,Guards!$A$2:$B$101,2,FALSE)="Yes",VLOOKUP(B3,Sites!$A$2:$D$21,2,FALSE)="Yes",C3=VLOOKUP(B3,Sites!$A$2:$D$21,3,FALSE)),"Eligible","Not eligible")),"Review"))
A4: FG03 | B4: FS01 | C4: V2 | D4: Pending | E4: 46284 | F4: 46324 | G4: Fictional evidence 03 | H4: Fictional reviewer A | I4: =IF(COUNTA(A4:H4)=0,"",IFERROR(IF(OR(COUNTA(A4:H4)<8,COUNTBLANK(A4:H4)>0,COUNTIF(Guards!$A$2:$A$101,A4)<>1,COUNTIF(Sites!$A$2:$A$21,B4)<>1,COUNTIFS($A$2:$A$101,A4,$B$2:$B$101,B4)<>1,NOT(IFERROR(AND(ISNUMBER(E4),E4=INT(E4),E4>=1,E4<=2958465),FALSE)),NOT(IFERROR(AND(ISNUMBER(F4),F4=INT(F4),F4>=1,F4<=2958465),FALSE)),F4<E4,NOT(IFERROR(AND(ISNUMBER(Pool!$L$3),Pool!$L$3=INT(Pool!$L$3),Pool!$L$3>=1,Pool!$L$3<=2958465),FALSE)),NOT(IFERROR(AND(ISTEXT(C4),LEN(TRIM(C4))>0),FALSE)),NOT(IFERROR(AND(ISTEXT(G4),LEN(TRIM(G4))>0),FALSE)),NOT(IFERROR(AND(ISTEXT(H4),LEN(TRIM(H4))>0),FALSE)),AND(D4<>"Approved",D4<>"Pending",D4<>"Withdrawn"),AND(VLOOKUP(A4,Guards!$A$2:$B$101,2,FALSE)<>"Yes",VLOOKUP(A4,Guards!$A$2:$B$101,2,FALSE)<>"No"),AND(VLOOKUP(B4,Sites!$A$2:$D$21,2,FALSE)<>"Yes",VLOOKUP(B4,Sites!$A$2:$D$21,2,FALSE)<>"No"),NOT(IFERROR(AND(ISTEXT(VLOOKUP(B4,Sites!$A$2:$D$21,3,FALSE)),LEN(TRIM(VLOOKUP(B4,Sites!$A$2:$D$21,3,FALSE)))>0),FALSE))),"Review",IF(AND(D4="Approved",E4<=Pool!$L$3,F4>=Pool!$L$3,VLOOKUP(A4,Guards!$A$2:$B$101,2,FALSE)="Yes",VLOOKUP(B4,Sites!$A$2:$D$21,2,FALSE)="Yes",C4=VLOOKUP(B4,Sites!$A$2:$D$21,3,FALSE)),"Eligible","Not eligible")),"Review"))
A5: FG04 | B5: FS01 | C5: V2 | D5: Approved | E5: 46295 | F5: 46324 | G5: Fictional evidence 04 | H5: Fictional reviewer A | I5: =IF(COUNTA(A5:H5)=0,"",IFERROR(IF(OR(COUNTA(A5:H5)<8,COUNTBLANK(A5:H5)>0,COUNTIF(Guards!$A$2:$A$101,A5)<>1,COUNTIF(Sites!$A$2:$A$21,B5)<>1,COUNTIFS($A$2:$A$101,A5,$B$2:$B$101,B5)<>1,NOT(IFERROR(AND(ISNUMBER(E5),E5=INT(E5),E5>=1,E5<=2958465),FALSE)),NOT(IFERROR(AND(ISNUMBER(F5),F5=INT(F5),F5>=1,F5<=2958465),FALSE)),F5<E5,NOT(IFERROR(AND(ISNUMBER(Pool!$L$3),Pool!$L$3=INT(Pool!$L$3),Pool!$L$3>=1,Pool!$L$3<=2958465),FALSE)),NOT(IFERROR(AND(ISTEXT(C5),LEN(TRIM(C5))>0),FALSE)),NOT(IFERROR(AND(ISTEXT(G5),LEN(TRIM(G5))>0),FALSE)),NOT(IFERROR(AND(ISTEXT(H5),LEN(TRIM(H5))>0),FALSE)),AND(D5<>"Approved",D5<>"Pending",D5<>"Withdrawn"),AND(VLOOKUP(A5,Guards!$A$2:$B$101,2,FALSE)<>"Yes",VLOOKUP(A5,Guards!$A$2:$B$101,2,FALSE)<>"No"),AND(VLOOKUP(B5,Sites!$A$2:$D$21,2,FALSE)<>"Yes",VLOOKUP(B5,Sites!$A$2:$D$21,2,FALSE)<>"No"),NOT(IFERROR(AND(ISTEXT(VLOOKUP(B5,Sites!$A$2:$D$21,3,FALSE)),LEN(TRIM(VLOOKUP(B5,Sites!$A$2:$D$21,3,FALSE)))>0),FALSE))),"Review",IF(AND(D5="Approved",E5<=Pool!$L$3,F5>=Pool!$L$3,VLOOKUP(A5,Guards!$A$2:$B$101,2,FALSE)="Yes",VLOOKUP(B5,Sites!$A$2:$D$21,2,FALSE)="Yes",C5=VLOOKUP(B5,Sites!$A$2:$D$21,3,FALSE)),"Eligible","Not eligible")),"Review"))
A6: FG05 | B6: FS01 | C6: V2 | D6: Approved | E6: 46284 | F6: 46324 | G6: Fictional evidence 05 | H6: Fictional reviewer A | I6: =IF(COUNTA(A6:H6)=0,"",IFERROR(IF(OR(COUNTA(A6:H6)<8,COUNTBLANK(A6:H6)>0,COUNTIF(Guards!$A$2:$A$101,A6)<>1,COUNTIF(Sites!$A$2:$A$21,B6)<>1,COUNTIFS($A$2:$A$101,A6,$B$2:$B$101,B6)<>1,NOT(IFERROR(AND(ISNUMBER(E6),E6=INT(E6),E6>=1,E6<=2958465),FALSE)),NOT(IFERROR(AND(ISNUMBER(F6),F6=INT(F6),F6>=1,F6<=2958465),FALSE)),F6<E6,NOT(IFERROR(AND(ISNUMBER(Pool!$L$3),Pool!$L$3=INT(Pool!$L$3),Pool!$L$3>=1,Pool!$L$3<=2958465),FALSE)),NOT(IFERROR(AND(ISTEXT(C6),LEN(TRIM(C6))>0),FALSE)),NOT(IFERROR(AND(ISTEXT(G6),LEN(TRIM(G6))>0),FALSE)),NOT(IFERROR(AND(ISTEXT(H6),LEN(TRIM(H6))>0),FALSE)),AND(D6<>"Approved",D6<>"Pending",D6<>"Withdrawn"),AND(VLOOKUP(A6,Guards!$A$2:$B$101,2,FALSE)<>"Yes",VLOOKUP(A6,Guards!$A$2:$B$101,2,FALSE)<>"No"),AND(VLOOKUP(B6,Sites!$A$2:$D$21,2,FALSE)<>"Yes",VLOOKUP(B6,Sites!$A$2:$D$21,2,FALSE)<>"No"),NOT(IFERROR(AND(ISTEXT(VLOOKUP(B6,Sites!$A$2:$D$21,3,FALSE)),LEN(TRIM(VLOOKUP(B6,Sites!$A$2:$D$21,3,FALSE)))>0),FALSE))),"Review",IF(AND(D6="Approved",E6<=Pool!$L$3,F6>=Pool!$L$3,VLOOKUP(A6,Guards!$A$2:$B$101,2,FALSE)="Yes",VLOOKUP(B6,Sites!$A$2:$D$21,2,FALSE)="Yes",C6=VLOOKUP(B6,Sites!$A$2:$D$21,3,FALSE)),"Eligible","Not eligible")),"Review"))
A7: FG06 | B7: FS01 | C7: V2 | D7: Approved | E7: 46284 | F7: 46324 | H7: Fictional reviewer A | I7: =IF(COUNTA(A7:H7)=0,"",IFERROR(IF(OR(COUNTA(A7:H7)<8,COUNTBLANK(A7:H7)>0,COUNTIF(Guards!$A$2:$A$101,A7)<>1,COUNTIF(Sites!$A$2:$A$21,B7)<>1,COUNTIFS($A$2:$A$101,A7,$B$2:$B$101,B7)<>1,NOT(IFERROR(AND(ISNUMBER(E7),E7=INT(E7),E7>=1,E7<=2958465),FALSE)),NOT(IFERROR(AND(ISNUMBER(F7),F7=INT(F7),F7>=1,F7<=2958465),FALSE)),F7<E7,NOT(IFERROR(AND(ISNUMBER(Pool!$L$3),Pool!$L$3=INT(Pool!$L$3),Pool!$L$3>=1,Pool!$L$3<=2958465),FALSE)),NOT(IFERROR(AND(ISTEXT(C7),LEN(TRIM(C7))>0),FALSE)),NOT(IFERROR(AND(ISTEXT(G7),LEN(TRIM(G7))>0),FALSE)),NOT(IFERROR(AND(ISTEXT(H7),LEN(TRIM(H7))>0),FALSE)),AND(D7<>"Approved",D7<>"Pending",D7<>"Withdrawn"),AND(VLOOKUP(A7,Guards!$A$2:$B$101,2,FALSE)<>"Yes",VLOOKUP(A7,Guards!$A$2:$B$101,2,FALSE)<>"No"),AND(VLOOKUP(B7,Sites!$A$2:$D$21,2,FALSE)<>"Yes",VLOOKUP(B7,Sites!$A$2:$D$21,2,FALSE)<>"No"),NOT(IFERROR(AND(ISTEXT(VLOOKUP(B7,Sites!$A$2:$D$21,3,FALSE)),LEN(TRIM(VLOOKUP(B7,Sites!$A$2:$D$21,3,FALSE)))>0),FALSE))),"Review",IF(AND(D7="Approved",E7<=Pool!$L$3,F7>=Pool!$L$3,VLOOKUP(A7,Guards!$A$2:$B$101,2,FALSE)="Yes",VLOOKUP(B7,Sites!$A$2:$D$21,2,FALSE)="Yes",C7=VLOOKUP(B7,Sites!$A$2:$D$21,3,FALSE)),"Eligible","Not eligible")),"Review"))
A8: FG07 | B8: FS01 | C8: V1 | D8: Approved | E8: 46284 | F8: 46324 | G8: Fictional evidence 07 | H8: Fictional reviewer A | I8: =IF(COUNTA(A8:H8)=0,"",IFERROR(IF(OR(COUNTA(A8:H8)<8,COUNTBLANK(A8:H8)>0,COUNTIF(Guards!$A$2:$A$101,A8)<>1,COUNTIF(Sites!$A$2:$A$21,B8)<>1,COUNTIFS($A$2:$A$101,A8,$B$2:$B$101,B8)<>1,NOT(IFERROR(AND(ISNUMBER(E8),E8=INT(E8),E8>=1,E8<=2958465),FALSE)),NOT(IFERROR(AND(ISNUMBER(F8),F8=INT(F8),F8>=1,F8<=2958465),FALSE)),F8<E8,NOT(IFERROR(AND(ISNUMBER(Pool!$L$3),Pool!$L$3=INT(Pool!$L$3),Pool!$L$3>=1,Pool!$L$3<=2958465),FALSE)),NOT(IFERROR(AND(ISTEXT(C8),LEN(TRIM(C8))>0),FALSE)),NOT(IFERROR(AND(ISTEXT(G8),LEN(TRIM(G8))>0),FALSE)),NOT(IFERROR(AND(ISTEXT(H8),LEN(TRIM(H8))>0),FALSE)),AND(D8<>"Approved",D8<>"Pending",D8<>"Withdrawn"),AND(VLOOKUP(A8,Guards!$A$2:$B$101,2,FALSE)<>"Yes",VLOOKUP(A8,Guards!$A$2:$B$101,2,FALSE)<>"No"),AND(VLOOKUP(B8,Sites!$A$2:$D$21,2,FALSE)<>"Yes",VLOOKUP(B8,Sites!$A$2:$D$21,2,FALSE)<>"No"),NOT(IFERROR(AND(ISTEXT(VLOOKUP(B8,Sites!$A$2:$D$21,3,FALSE)),LEN(TRIM(VLOOKUP(B8,Sites!$A$2:$D$21,3,FALSE)))>0),FALSE))),"Review",IF(AND(D8="Approved",E8<=Pool!$L$3,F8>=Pool!$L$3,VLOOKUP(A8,Guards!$A$2:$B$101,2,FALSE)="Yes",VLOOKUP(B8,Sites!$A$2:$D$21,2,FALSE)="Yes",C8=VLOOKUP(B8,Sites!$A$2:$D$21,3,FALSE)),"Eligible","Not eligible")),"Review"))
A9: FG08 | B9: FS01 | C9: V2 | D9: Approved | E9: 46294 | F9: 46294 | G9: Fictional evidence 08 | H9: Fictional reviewer A | I9: =IF(COUNTA(A9:H9)=0,"",IFERROR(IF(OR(COUNTA(A9:H9)<8,COUNTBLANK(A9:H9)>0,COUNTIF(Guards!$A$2:$A$101,A9)<>1,COUNTIF(Sites!$A$2:$A$21,B9)<>1,COUNTIFS($A$2:$A$101,A9,$B$2:$B$101,B9)<>1,NOT(IFERROR(AND(ISNUMBER(E9),E9=INT(E9),E9>=1,E9<=2958465),FALSE)),NOT(IFERROR(AND(ISNUMBER(F9),F9=INT(F9),F9>=1,F9<=2958465),FALSE)),F9<E9,NOT(IFERROR(AND(ISNUMBER(Pool!$L$3),Pool!$L$3=INT(Pool!$L$3),Pool!$L$3>=1,Pool!$L$3<=2958465),FALSE)),NOT(IFERROR(AND(ISTEXT(C9),LEN(TRIM(C9))>0),FALSE)),NOT(IFERROR(AND(ISTEXT(G9),LEN(TRIM(G9))>0),FALSE)),NOT(IFERROR(AND(ISTEXT(H9),LEN(TRIM(H9))>0),FALSE)),AND(D9<>"Approved",D9<>"Pending",D9<>"Withdrawn"),AND(VLOOKUP(A9,Guards!$A$2:$B$101,2,FALSE)<>"Yes",VLOOKUP(A9,Guards!$A$2:$B$101,2,FALSE)<>"No"),AND(VLOOKUP(B9,Sites!$A$2:$D$21,2,FALSE)<>"Yes",VLOOKUP(B9,Sites!$A$2:$D$21,2,FALSE)<>"No"),NOT(IFERROR(AND(ISTEXT(VLOOKUP(B9,Sites!$A$2:$D$21,3,FALSE)),LEN(TRIM(VLOOKUP(B9,Sites!$A$2:$D$21,3,FALSE)))>0),FALSE))),"Review",IF(AND(D9="Approved",E9<=Pool!$L$3,F9>=Pool!$L$3,VLOOKUP(A9,Guards!$A$2:$B$101,2,FALSE)="Yes",VLOOKUP(B9,Sites!$A$2:$D$21,2,FALSE)="Yes",C9=VLOOKUP(B9,Sites!$A$2:$D$21,3,FALSE)),"Eligible","Not eligible")),"Review"))
A10: FG01 | B10: FS02 | C10: V1 | D10: Approved | E10: 46284 | F10: 46324 | G10: Fictional evidence 09 | H10: Fictional reviewer A | I10: =IF(COUNTA(A10:H10)=0,"",IFERROR(IF(OR(COUNTA(A10:H10)<8,COUNTBLANK(A10:H10)>0,COUNTIF(Guards!$A$2:$A$101,A10)<>1,COUNTIF(Sites!$A$2:$A$21,B10)<>1,COUNTIFS($A$2:$A$101,A10,$B$2:$B$101,B10)<>1,NOT(IFERROR(AND(ISNUMBER(E10),E10=INT(E10),E10>=1,E10<=2958465),FALSE)),NOT(IFERROR(AND(ISNUMBER(F10),F10=INT(F10),F10>=1,F10<=2958465),FALSE)),F10<E10,NOT(IFERROR(AND(ISNUMBER(Pool!$L$3),Pool!$L$3=INT(Pool!$L$3),Pool!$L$3>=1,Pool!$L$3<=2958465),FALSE)),NOT(IFERROR(AND(ISTEXT(C10),LEN(TRIM(C10))>0),FALSE)),NOT(IFERROR(AND(ISTEXT(G10),LEN(TRIM(G10))>0),FALSE)),NOT(IFERROR(AND(ISTEXT(H10),LEN(TRIM(H10))>0),FALSE)),AND(D10<>"Approved",D10<>"Pending",D10<>"Withdrawn"),AND(VLOOKUP(A10,Guards!$A$2:$B$101,2,FALSE)<>"Yes",VLOOKUP(A10,Guards!$A$2:$B$101,2,FALSE)<>"No"),AND(VLOOKUP(B10,Sites!$A$2:$D$21,2,FALSE)<>"Yes",VLOOKUP(B10,Sites!$A$2:$D$21,2,FALSE)<>"No"),NOT(IFERROR(AND(ISTEXT(VLOOKUP(B10,Sites!$A$2:$D$21,3,FALSE)),LEN(TRIM(VLOOKUP(B10,Sites!$A$2:$D$21,3,FALSE)))>0),FALSE))),"Review",IF(AND(D10="Approved",E10<=Pool!$L$3,F10>=Pool!$L$3,VLOOKUP(A10,Guards!$A$2:$B$101,2,FALSE)="Yes",VLOOKUP(B10,Sites!$A$2:$D$21,2,FALSE)="Yes",C10=VLOOKUP(B10,Sites!$A$2:$D$21,3,FALSE)),"Eligible","Not eligible")),"Review"))
A11: FG02 | B11: FS03 | C11: V1 | D11: Approved | E11: 46284 | F11: 46324 | G11: Fictional evidence 10 | H11: Fictional reviewer A | I11: =IF(COUNTA(A11:H11)=0,"",IFERROR(IF(OR(COUNTA(A11:H11)<8,COUNTBLANK(A11:H11)>0,COUNTIF(Guards!$A$2:$A$101,A11)<>1,COUNTIF(Sites!$A$2:$A$21,B11)<>1,COUNTIFS($A$2:$A$101,A11,$B$2:$B$101,B11)<>1,NOT(IFERROR(AND(ISNUMBER(E11),E11=INT(E11),E11>=1,E11<=2958465),FALSE)),NOT(IFERROR(AND(ISNUMBER(F11),F11=INT(F11),F11>=1,F11<=2958465),FALSE)),F11<E11,NOT(IFERROR(AND(ISNUMBER(Pool!$L$3),Pool!$L$3=INT(Pool!$L$3),Pool!$L$3>=1,Pool!$L$3<=2958465),FALSE)),NOT(IFERROR(AND(ISTEXT(C11),LEN(TRIM(C11))>0),FALSE)),NOT(IFERROR(AND(ISTEXT(G11),LEN(TRIM(G11))>0),FALSE)),NOT(IFERROR(AND(ISTEXT(H11),LEN(TRIM(H11))>0),FALSE)),AND(D11<>"Approved",D11<>"Pending",D11<>"Withdrawn"),AND(VLOOKUP(A11,Guards!$A$2:$B$101,2,FALSE)<>"Yes",VLOOKUP(A11,Guards!$A$2:$B$101,2,FALSE)<>"No"),AND(VLOOKUP(B11,Sites!$A$2:$D$21,2,FALSE)<>"Yes",VLOOKUP(B11,Sites!$A$2:$D$21,2,FALSE)<>"No"),NOT(IFERROR(AND(ISTEXT(VLOOKUP(B11,Sites!$A$2:$D$21,3,FALSE)),LEN(TRIM(VLOOKUP(B11,Sites!$A$2:$D$21,3,FALSE)))>0),FALSE))),"Review",IF(AND(D11="Approved",E11<=Pool!$L$3,F11>=Pool!$L$3,VLOOKUP(A11,Guards!$A$2:$B$101,2,FALSE)="Yes",VLOOKUP(B11,Sites!$A$2:$D$21,2,FALSE)="Yes",C11=VLOOKUP(B11,Sites!$A$2:$D$21,3,FALSE)),"Eligible","Not eligible")),"Review"))
I12: =IF(COUNTA(A12:H12)=0,"",IFERROR(IF(OR(COUNTA(A12:H12)<8,COUNTBLANK(A12:H12)>0,COUNTIF(Guards!$A$2:$A$101,A12)<>1,COUNTIF(Sites!$A$2:$A$21,B12)<>1,COUNTIFS($A$2:$A$101,A12,$B$2:$B$101,B12)<>1,NOT(IFERROR(AND(ISNUMBER(E12),E12=INT(E12),E12>=1,E12<=2958465),FALSE)),NOT(IFERROR(AND(ISNUMBER(F12),F12=INT(F12),F12>=1,F12<=2958465),FALSE)),F12<E12,NOT(IFERROR(AND(ISNUMBER(Pool!$L$3),Pool!$L$3=INT(Pool!$L$3),Pool!$L$3>=1,Pool!$L$3<=2958465),FALSE)),NOT(IFERROR(AND(ISTEXT(C12),LEN(TRIM(C12))>0),FALSE)),NOT(IFERROR(AND(ISTEXT(G12),LEN(TRIM(G12))>0),FALSE)),NOT(IFERROR(AND(ISTEXT(H12),LEN(TRIM(H12))>0),FALSE)),AND(D12<>"Approved",D12<>"Pending",D12<>"Withdrawn"),AND(VLOOKUP(A12,Guards!$A$2:$B$101,2,FALSE)<>"Yes",VLOOKUP(A12,Guards!$A$2:$B$101,2,FALSE)<>"No"),AND(VLOOKUP(B12,Sites!$A$2:$D$21,2,FALSE)<>"Yes",VLOOKUP(B12,Sites!$A$2:$D$21,2,FALSE)<>"No"),NOT(IFERROR(AND(ISTEXT(VLOOKUP(B12,Sites!$A$2:$D$21,3,FALSE)),LEN(TRIM(VLOOKUP(B12,Sites!$A$2:$D$21,3,FALSE)))>0),FALSE))),"Review",IF(AND(D12="Approved",E12<=Pool!$L$3,F12>=Pool!$L$3,VLOOKUP(A12,Guards!$A$2:$B$101,2,FALSE)="Yes",VLOOKUP(B12,Sites!$A$2:$D$21,2,FALSE)="Yes",C12=VLOOKUP(B12,Sites!$A$2:$D$21,3,FALSE)),"Eligible","Not eligible")),"Review"))
I13: =IF(COUNTA(A13:H13)=0,"",IFERROR(IF(OR(COUNTA(A13:H13)<8,COUNTBLANK(A13:H13)>0,COUNTIF(Guards!$A$2:$A$101,A13)<>1,COUNTIF(Sites!$A$2:$A$21,B13)<>1,COUNTIFS($A$2:$A$101,A13,$B$2:$B$101,B13)<>1,NOT(IFERROR(AND(ISNUMBER(E13),E13=INT(E13),E13>=1,E13<=2958465),FALSE)),NOT(IFERROR(AND(ISNUMBER(F13),F13=INT(F13),F13>=1,F13<=2958465),FALSE)),F13<E13,NOT(IFERROR(AND(ISNUMBER(Pool!$L$3),Pool!$L$3=INT(Pool!$L$3),Pool!$L$3>=1,Pool!$L$3<=2958465),FALSE)),NOT(IFERROR(AND(ISTEXT(C13),LEN(TRIM(C13))>0),FALSE)),NOT(IFERROR(AND(ISTEXT(G13),LEN(TRIM(G13))>0),FALSE)),NOT(IFERROR(AND(ISTEXT(H13),LEN(TRIM(H13))>0),FALSE)),AND(D13<>"Approved",D13<>"Pending",D13<>"Withdrawn"),AND(VLOOKUP(A13,Guards!$A$2:$B$101,2,FALSE)<>"Yes",VLOOKUP(A13,Guards!$A$2:$B$101,2,FALSE)<>"No"),AND(VLOOKUP(B13,Sites!$A$2:$D$21,2,FALSE)<>"Yes",VLOOKUP(B13,Sites!$A$2:$D$21,2,FALSE)<>"No"),NOT(IFERROR(AND(ISTEXT(VLOOKUP(B13,Sites!$A$2:$D$21,3,FALSE)),LEN(TRIM(VLOOKUP(B13,Sites!$A$2:$D$21,3,FALSE)))>0),FALSE))),"Review",IF(AND(D13="Approved",E13<=Pool!$L$3,F13>=Pool!$L$3,VLOOKUP(A13,Guards!$A$2:$B$101,2,FALSE)="Yes",VLOOKUP(B13,Sites!$A$2:$D$21,2,FALSE)="Yes",C13=VLOOKUP(B13,Sites!$A$2:$D$21,3,FALSE)),"Eligible","Not eligible")),"Review"))
I14: =IF(COUNTA(A14:H14)=0,"",IFERROR(IF(OR(COUNTA(A14:H14)<8,COUNTBLANK(A14:H14)>0,COUNTIF(Guards!$A$2:$A$101,A14)<>1,COUNTIF(Sites!$A$2:$A$21,B14)<>1,COUNTIFS($A$2:$A$101,A14,$B$2:$B$101,B14)<>1,NOT(IFERROR(AND(ISNUMBER(E14),E14=INT(E14),E14>=1,E14<=2958465),FALSE)),NOT(IFERROR(AND(ISNUMBER(F14),F14=INT(F14),F14>=1,F14<=2958465),FALSE)),F14<E14,NOT(IFERROR(AND(ISNUMBER(Pool!$L$3),Pool!$L$3=INT(Pool!$L$3),Pool!$L$3>=1,Pool!$L$3<=2958465),FALSE)),NOT(IFERROR(AND(ISTEXT(C14),LEN(TRIM(C14))>0),FALSE)),NOT(IFERROR(AND(ISTEXT(G14),LEN(TRIM(G14))>0),FALSE)),NOT(IFERROR(AND(ISTEXT(H14),LEN(TRIM(H14))>0),FALSE)),AND(D14<>"Approved",D14<>"Pending",D14<>"Withdrawn"),AND(VLOOKUP(A14,Guards!$A$2:$B$101,2,FALSE)<>"Yes",VLOOKUP(A14,Guards!$A$2:$B$101,2,FALSE)<>"No"),AND(VLOOKUP(B14,Sites!$A$2:$D$21,2,FALSE)<>"Yes",VLOOKUP(B14,Sites!$A$2:$D$21,2,FALSE)<>"No"),NOT(IFERROR(AND(ISTEXT(VLOOKUP(B14,Sites!$A$2:$D$21,3,FALSE)),LEN(TRIM(VLOOKUP(B14,Sites!$A$2:$D$21,3,FALSE)))>0),FALSE))),"Review",IF(AND(D14="Approved",E14<=Pool!$L$3,F14>=Pool!$L$3,VLOOKUP(A14,Guards!$A$2:$B$101,2,FALSE)="Yes",VLOOKUP(B14,Sites!$A$2:$D$21,2,FALSE)="Yes",C14=VLOOKUP(B14,Sites!$A$2:$D$21,3,FALSE)),"Eligible","Not eligible")),"Review"))
I15: =IF(COUNTA(A15:H15)=0,"",IFERROR(IF(OR(COUNTA(A15:H15)<8,COUNTBLANK(A15:H15)>0,COUNTIF(Guards!$A$2:$A$101,A15)<>1,COUNTIF(Sites!$A$2:$A$21,B15)<>1,COUNTIFS($A$2:$A$101,A15,$B$2:$B$101,B15)<>1,NOT(IFERROR(AND(ISNUMBER(E15),E15=INT(E15),E15>=1,E15<=2958465),FALSE)),NOT(IFERROR(AND(ISNUMBER(F15),F15=INT(F15),F15>=1,F15<=2958465),FALSE)),F15<E15,NOT(IFERROR(AND(ISNUMBER(Pool!$L$3),Pool!$L$3=INT(Pool!$L$3),Pool!$L$3>=1,Pool!$L$3<=2958465),FALSE)),NOT(IFERROR(AND(ISTEXT(C15),LEN(TRIM(C15))>0),FALSE)),NOT(IFERROR(AND(ISTEXT(G15),LEN(TRIM(G15))>0),FALSE)),NOT(IFERROR(AND(ISTEXT(H15),LEN(TRIM(H15))>0),FALSE)),AND(D15<>"Approved",D15<>"Pending",D15<>"Withdrawn"),AND(VLOOKUP(A15,Guards!$A$2:$B$101,2,FALSE)<>"Yes",VLOOKUP(A15,Guards!$A$2:$B$101,2,FALSE)<>"No"),AND(VLOOKUP(B15,Sites!$A$2:$D$21,2,FALSE)<>"Yes",VLOOKUP(B15,Sites!$A$2:$D$21,2,FALSE)<>"No"),NOT(IFERROR(AND(ISTEXT(VLOOKUP(B15,Sites!$A$2:$D$21,3,FALSE)),LEN(TRIM(VLOOKUP(B15,Sites!$A$2:$D$21,3,FALSE)))>0),FALSE))),"Review",IF(AND(D15="Approved",E15<=Pool!$L$3,F15>=Pool!$L$3,VLOOKUP(A15,Guards!$A$2:$B$101,2,FALSE)="Yes",VLOOKUP(B15,Sites!$A$2:$D$21,2,FALSE)="Yes",C15=VLOOKUP(B15,Sites!$A$2:$D$21,3,FALSE)),"Eligible","Not eligible")),"Review"))
I16: =IF(COUNTA(A16:H16)=0,"",IFERROR(IF(OR(COUNTA(A16:H16)<8,COUNTBLANK(A16:H16)>0,COUNTIF(Guards!$A$2:$A$101,A16)<>1,COUNTIF(Sites!$A$2:$A$21,B16)<>1,COUNTIFS($A$2:$A$101,A16,$B$2:$B$101,B16)<>1,NOT(IFERROR(AND(ISNUMBER(E16),E16=INT(E16),E16>=1,E16<=2958465),FALSE)),NOT(IFERROR(AND(ISNUMBER(F16),F16=INT(F16),F16>=1,F16<=2958465),FALSE)),F16<E16,NOT(IFERROR(AND(ISNUMBER(Pool!$L$3),Pool!$L$3=INT(Pool!$L$3),Pool!$L$3>=1,Pool!$L$3<=2958465),FALSE)),NOT(IFERROR(AND(ISTEXT(C16),LEN(TRIM(C16))>0),FALSE)),NOT(IFERROR(AND(ISTEXT(G16),LEN(TRIM(G16))>0),FALSE)),NOT(IFERROR(AND(ISTEXT(H16),LEN(TRIM(H16))>0),FALSE)),AND(D16<>"Approved",D16<>"Pending",D16<>"Withdrawn"),AND(VLOOKUP(A16,Guards!$A$2:$B$101,2,FALSE)<>"Yes",VLOOKUP(A16,Guards!$A$2:$B$101,2,FALSE)<>"No"),AND(VLOOKUP(B16,Sites!$A$2:$D$21,2,FALSE)<>"Yes",VLOOKUP(B16,Sites!$A$2:$D$21,2,FALSE)<>"No"),NOT(IFERROR(AND(ISTEXT(VLOOKUP(B16,Sites!$A$2:$D$21,3,FALSE)),LEN(TRIM(VLOOKUP(B16,Sites!$A$2:$D$21,3,FALSE)))>0),FALSE))),"Review",IF(AND(D16="Approved",E16<=Pool!$L$3,F16>=Pool!$L$3,VLOOKUP(A16,Guards!$A$2:$B$101,2,FALSE)="Yes",VLOOKUP(B16,Sites!$A$2:$D$21,2,FALSE)="Yes",C16=VLOOKUP(B16,Sites!$A$2:$D$21,3,FALSE)),"Eligible","Not eligible")),"Review"))
I17: =IF(COUNTA(A17:H17)=0,"",IFERROR(IF(OR(COUNTA(A17:H17)<8,COUNTBLANK(A17:H17)>0,COUNTIF(Guards!$A$2:$A$101,A17)<>1,COUNTIF(Sites!$A$2:$A$21,B17)<>1,COUNTIFS($A$2:$A$101,A17,$B$2:$B$101,B17)<>1,NOT(IFERROR(AND(ISNUMBER(E17),E17=INT(E17),E17>=1,E17<=2958465),FALSE)),NOT(IFERROR(AND(ISNUMBER(F17),F17=INT(F17),F17>=1,F17<=2958465),FALSE)),F17<E17,NOT(IFERROR(AND(ISNUMBER(Pool!$L$3),Pool!$L$3=INT(Pool!$L$3),Pool!$L$3>=1,Pool!$L$3<=2958465),FALSE)),NOT(IFERROR(AND(ISTEXT(C17),LEN(TRIM(C17))>0),FALSE)),NOT(IFERROR(AND(ISTEXT(G17),LEN(TRIM(G17))>0),FALSE)),NOT(IFERROR(AND(ISTEXT(H17),LEN(TRIM(H17))>0),FALSE)),AND(D17<>"Approved",D17<>"Pending",D17<>"Withdrawn"),AND(VLOOKUP(A17,Guards!$A$2:$B$101,2,FALSE)<>"Yes",VLOOKUP(A17,Guards!$A$2:$B$101,2,FALSE)<>"No"),AND(VLOOKUP(B17,Sites!$A$2:$D$21,2,FALSE)<>"Yes",VLOOKUP(B17,Sites!$A$2:$D$21,2,FALSE)<>"No"),NOT(IFERROR(AND(ISTEXT(VLOOKUP(B17,Sites!$A$2:$D$21,3,FALSE)),LEN(TRIM(VLOOKUP(B17,Sites!$A$2:$D$21,3,FALSE)))>0),FALSE))),"Review",IF(AND(D17="Approved",E17<=Pool!$L$3,F17>=Pool!$L$3,VLOOKUP(A17,Guards!$A$2:$B$101,2,FALSE)="Yes",VLOOKUP(B17,Sites!$A$2:$D$21,2,FALSE)="Yes",C17=VLOOKUP(B17,Sites!$A$2:$D$21,3,FALSE)),"Eligible","Not eligible")),"Review"))
I18: =IF(COUNTA(A18:H18)=0,"",IFERROR(IF(OR(COUNTA(A18:H18)<8,COUNTBLANK(A18:H18)>0,COUNTIF(Guards!$A$2:$A$101,A18)<>1,COUNTIF(Sites!$A$2:$A$21,B18)<>1,COUNTIFS($A$2:$A$101,A18,$B$2:$B$101,B18)<>1,NOT(IFERROR(AND(ISNUMBER(E18),E18=INT(E18),E18>=1,E18<=2958465),FALSE)),NOT(IFERROR(AND(ISNUMBER(F18),F18=INT(F18),F18>=1,F18<=2958465),FALSE)),F18<E18,NOT(IFERROR(AND(ISNUMBER(Pool!$L$3),Pool!$L$3=INT(Pool!$L$3),Pool!$L$3>=1,Pool!$L$3<=2958465),FALSE)),NOT(IFERROR(AND(ISTEXT(C18),LEN(TRIM(C18))>0),FALSE)),NOT(IFERROR(AND(ISTEXT(G18),LEN(TRIM(G18))>0),FALSE)),NOT(IFERROR(AND(ISTEXT(H18),LEN(TRIM(H18))>0),FALSE)),AND(D18<>"Approved",D18<>"Pending",D18<>"Withdrawn"),AND(VLOOKUP(A18,Guards!$A$2:$B$101,2,FALSE)<>"Yes",VLOOKUP(A18,Guards!$A$2:$B$101,2,FALSE)<>"No"),AND(VLOOKUP(B18,Sites!$A$2:$D$21,2,FALSE)<>"Yes",VLOOKUP(B18,Sites!$A$2:$D$21,2,FALSE)<>"No"),NOT(IFERROR(AND(ISTEXT(VLOOKUP(B18,Sites!$A$2:$D$21,3,FALSE)),LEN(TRIM(VLOOKUP(B18,Sites!$A$2:$D$21,3,FALSE)))>0),FALSE))),"Review",IF(AND(D18="Approved",E18<=Pool!$L$3,F18>=Pool!$L$3,VLOOKUP(A18,Guards!$A$2:$B$101,2,FALSE)="Yes",VLOOKUP(B18,Sites!$A$2:$D$21,2,FALSE)="Yes",C18=VLOOKUP(B18,Sites!$A$2:$D$21,3,FALSE)),"Eligible","Not eligible")),"Review"))
I19: =IF(COUNTA(A19:H19)=0,"",IFERROR(IF(OR(COUNTA(A19:H19)<8,COUNTBLANK(A19:H19)>0,COUNTIF(Guards!$A$2:$A$101,A19)<>1,COUNTIF(Sites!$A$2:$A$21,B19)<>1,COUNTIFS($A$2:$A$101,A19,$B$2:$B$101,B19)<>1,NOT(IFERROR(AND(ISNUMBER(E19),E19=INT(E19),E19>=1,E19<=2958465),FALSE)),NOT(IFERROR(AND(ISNUMBER(F19),F19=INT(F19),F19>=1,F19<=2958465),FALSE)),F19<E19,NOT(IFERROR(AND(ISNUMBER(Pool!$L$3),Pool!$L$3=INT(Pool!$L$3),Pool!$L$3>=1,Pool!$L$3<=2958465),FALSE)),NOT(IFERROR(AND(ISTEXT(C19),LEN(TRIM(C19))>0),FALSE)),NOT(IFERROR(AND(ISTEXT(G19),LEN(TRIM(G19))>0),FALSE)),NOT(IFERROR(AND(ISTEXT(H19),LEN(TRIM(H19))>0),FALSE)),AND(D19<>"Approved",D19<>"Pending",D19<>"Withdrawn"),AND(VLOOKUP(A19,Guards!$A$2:$B$101,2,FALSE)<>"Yes",VLOOKUP(A19,Guards!$A$2:$B$101,2,FALSE)<>"No"),AND(VLOOKUP(B19,Sites!$A$2:$D$21,2,FALSE)<>"Yes",VLOOKUP(B19,Sites!$A$2:$D$21,2,FALSE)<>"No"),NOT(IFERROR(AND(ISTEXT(VLOOKUP(B19,Sites!$A$2:$D$21,3,FALSE)),LEN(TRIM(VLOOKUP(B19,Sites!$A$2:$D$21,3,FALSE)))>0),FALSE))),"Review",IF(AND(D19="Approved",E19<=Pool!$L$3,F19>=Pool!$L$3,VLOOKUP(A19,Guards!$A$2:$B$101,2,FALSE)="Yes",VLOOKUP(B19,Sites!$A$2:$D$21,2,FALSE)="Yes",C19=VLOOKUP(B19,Sites!$A$2:$D$21,3,FALSE)),"Eligible","Not eligible")),"Review"))
I20: =IF(COUNTA(A20:H20)=0,"",IFERROR(IF(OR(COUNTA(A20:H20)<8,COUNTBLANK(A20:H20)>0,COUNTIF(Guards!$A$2:$A$101,A20)<>1,COUNTIF(Sites!$A$2:$A$21,B20)<>1,COUNTIFS($A$2:$A$101,A20,$B$2:$B$101,B20)<>1,NOT(IFERROR(AND(ISNUMBER(E20),E20=INT(E20),E20>=1,E20<=2958465),FALSE)),NOT(IFERROR(AND(ISNUMBER(F20),F20=INT(F20),F20>=1,F20<=2958465),FALSE)),F20<E20,NOT(IFERROR(AND(ISNUMBER(Pool!$L$3),Pool!$L$3=INT(Pool!$L$3),Pool!$L$3>=1,Pool!$L$3<=2958465),FALSE)),NOT(IFERROR(AND(ISTEXT(C20),LEN(TRIM(C20))>0),FALSE)),NOT(IFERROR(AND(ISTEXT(G20),LEN(TRIM(G20))>0),FALSE)),NOT(IFERROR(AND(ISTEXT(H20),LEN(TRIM(H20))>0),FALSE)),AND(D20<>"Approved",D20<>"Pending",D20<>"Withdrawn"),AND(VLOOKUP(A20,Guards!$A$2:$B$101,2,FALSE)<>"Yes",VLOOKUP(A20,Guards!$A$2:$B$101,2,FALSE)<>"No"),AND(VLOOKUP(B20,Sites!$A$2:$D$21,2,FALSE)<>"Yes",VLOOKUP(B20,Sites!$A$2:$D$21,2,FALSE)<>"No"),NOT(IFERROR(AND(ISTEXT(VLOOKUP(B20,Sites!$A$2:$D$21,3,FALSE)),LEN(TRIM(VLOOKUP(B20,Sites!$A$2:$D$21,3,FALSE)))>0),FALSE))),"Review",IF(AND(D20="Approved",E20<=Pool!$L$3,F20>=Pool!$L$3,VLOOKUP(A20,Guards!$A$2:$B$101,2,FALSE)="Yes",VLOOKUP(B20,Sites!$A$2:$D$21,2,FALSE)="Yes",C20=VLOOKUP(B20,Sites!$A$2:$D$21,3,FALSE)),"Eligible","Not eligible")),"Review"))
I21: =IF(COUNTA(A21:H21)=0,"",IFERROR(IF(OR(COUNTA(A21:H21)<8,COUNTBLANK(A21:H21)>0,COUNTIF(Guards!$A$2:$A$101,A21)<>1,COUNTIF(Sites!$A$2:$A$21,B21)<>1,COUNTIFS($A$2:$A$101,A21,$B$2:$B$101,B21)<>1,NOT(IFERROR(AND(ISNUMBER(E21),E21=INT(E21),E21>=1,E21<=2958465),FALSE)),NOT(IFERROR(AND(ISNUMBER(F21),F21=INT(F21),F21>=1,F21<=2958465),FALSE)),F21<E21,NOT(IFERROR(AND(ISNUMBER(Pool!$L$3),Pool!$L$3=INT(Pool!$L$3),Pool!$L$3>=1,Pool!$L$3<=2958465),FALSE)),NOT(IFERROR(AND(ISTEXT(C21),LEN(TRIM(C21))>0),FALSE)),NOT(IFERROR(AND(ISTEXT(G21),LEN(TRIM(G21))>0),FALSE)),NOT(IFERROR(AND(ISTEXT(H21),LEN(TRIM(H21))>0),FALSE)),AND(D21<>"Approved",D21<>"Pending",D21<>"Withdrawn"),AND(VLOOKUP(A21,Guards!$A$2:$B$101,2,FALSE)<>"Yes",VLOOKUP(A21,Guards!$A$2:$B$101,2,FALSE)<>"No"),AND(VLOOKUP(B21,Sites!$A$2:$D$21,2,FALSE)<>"Yes",VLOOKUP(B21,Sites!$A$2:$D$21,2,FALSE)<>"No"),NOT(IFERROR(AND(ISTEXT(VLOOKUP(B21,Sites!$A$2:$D$21,3,FALSE)),LEN(TRIM(VLOOKUP(B21,Sites!$A$2:$D$21,3,FALSE)))>0),FALSE))),"Review",IF(AND(D21="Approved",E21<=Pool!$L$3,F21>=Pool!$L$3,VLOOKUP(A21,Guards!$A$2:$B$101,2,FALSE)="Yes",VLOOKUP(B21,Sites!$A$2:$D$21,2,FALSE)="Yes",C21=VLOOKUP(B21,Sites!$A$2:$D$21,3,FALSE)),"Eligible","Not eligible")),"Review"))
I22: =IF(COUNTA(A22:H22)=0,"",IFERROR(IF(OR(COUNTA(A22:H22)<8,COUNTBLANK(A22:H22)>0,COUNTIF(Guards!$A$2:$A$101,A22)<>1,COUNTIF(Sites!$A$2:$A$21,B22)<>1,COUNTIFS($A$2:$A$101,A22,$B$2:$B$101,B22)<>1,NOT(IFERROR(AND(ISNUMBER(E22),E22=INT(E22),E22>=1,E22<=2958465),FALSE)),NOT(IFERROR(AND(ISNUMBER(F22),F22=INT(F22),F22>=1,F22<=2958465),FALSE)),F22<E22,NOT(IFERROR(AND(ISNUMBER(Pool!$L$3),Pool!$L$3=INT(Pool!$L$3),Pool!$L$3>=1,Pool!$L$3<=2958465),FALSE)),NOT(IFERROR(AND(ISTEXT(C22),LEN(TRIM(C22))>0),FALSE)),NOT(IFERROR(AND(ISTEXT(G22),LEN(TRIM(G22))>0),FALSE)),NOT(IFERROR(AND(ISTEXT(H22),LEN(TRIM(H22))>0),FALSE)),AND(D22<>"Approved",D22<>"Pending",D22<>"Withdrawn"),AND(VLOOKUP(A22,Guards!$A$2:$B$101,2,FALSE)<>"Yes",VLOOKUP(A22,Guards!$A$2:$B$101,2,FALSE)<>"No"),AND(VLOOKUP(B22,Sites!$A$2:$D$21,2,FALSE)<>"Yes",VLOOKUP(B22,Sites!$A$2:$D$21,2,FALSE)<>"No"),NOT(IFERROR(AND(ISTEXT(VLOOKUP(B22,Sites!$A$2:$D$21,3,FALSE)),LEN(TRIM(VLOOKUP(B22,Sites!$A$2:$D$21,3,FALSE)))>0),FALSE))),"Review",IF(AND(D22="Approved",E22<=Pool!$L$3,F22>=Pool!$L$3,VLOOKUP(A22,Guards!$A$2:$B$101,2,FALSE)="Yes",VLOOKUP(B22,Sites!$A$2:$D$21,2,FALSE)="Yes",C22=VLOOKUP(B22,Sites!$A$2:$D$21,3,FALSE)),"Eligible","Not eligible")),"Review"))
I23: =IF(COUNTA(A23:H23)=0,"",IFERROR(IF(OR(COUNTA(A23:H23)<8,COUNTBLANK(A23:H23)>0,COUNTIF(Guards!$A$2:$A$101,A23)<>1,COUNTIF(Sites!$A$2:$A$21,B23)<>1,COUNTIFS($A$2:$A$101,A23,$B$2:$B$101,B23)<>1,NOT(IFERROR(AND(ISNUMBER(E23),E23=INT(E23),E23>=1,E23<=2958465),FALSE)),NOT(IFERROR(AND(ISNUMBER(F23),F23=INT(F23),F23>=1,F23<=2958465),FALSE)),F23<E23,NOT(IFERROR(AND(ISNUMBER(Pool!$L$3),Pool!$L$3=INT(Pool!$L$3),Pool!$L$3>=1,Pool!$L$3<=2958465),FALSE)),NOT(IFERROR(AND(ISTEXT(C23),LEN(TRIM(C23))>0),FALSE)),NOT(IFERROR(AND(ISTEXT(G23),LEN(TRIM(G23))>0),FALSE)),NOT(IFERROR(AND(ISTEXT(H23),LEN(TRIM(H23))>0),FALSE)),AND(D23<>"Approved",D23<>"Pending",D23<>"Withdrawn"),AND(VLOOKUP(A23,Guards!$A$2:$B$101,2,FALSE)<>"Yes",VLOOKUP(A23,Guards!$A$2:$B$101,2,FALSE)<>"No"),AND(VLOOKUP(B23,Sites!$A$2:$D$21,2,FALSE)<>"Yes",VLOOKUP(B23,Sites!$A$2:$D$21,2,FALSE)<>"No"),NOT(IFERROR(AND(ISTEXT(VLOOKUP(B23,Sites!$A$2:$D$21,3,FALSE)),LEN(TRIM(VLOOKUP(B23,Sites!$A$2:$D$21,3,FALSE)))>0),FALSE))),"Review",IF(AND(D23="Approved",E23<=Pool!$L$3,F23>=Pool!$L$3,VLOOKUP(A23,Guards!$A$2:$B$101,2,FALSE)="Yes",VLOOKUP(B23,Sites!$A$2:$D$21,2,FALSE)="Yes",C23=VLOOKUP(B23,Sites!$A$2:$D$21,3,FALSE)),"Eligible","Not eligible")),"Review"))
... I101: =IF(COUNTA(A101:H101)=0,"",IFERROR(IF(OR(COUNTA(A101:H101)<8,COUNTBLANK(A101:H101)>0,COUNTIF(Guards!$A$2:$A$101,A101)<>1,COUNTIF(Sites!$A$2:$A$21,B101)<>1,COUNTIFS($A$2:$A$101,A101,$B$2:$B$101,B101)<>1,NOT(IFERROR(AND(ISNUMBER(E101),E101=INT(E101),E101>=1,E101<=2958465),FALSE)),NOT(IFERROR(AND(ISNUMBER(F101),F101=INT(F101),F101>=1,F101<=2958465),FALSE)),F101<E101,NOT(IFERROR(AND(ISNUMBER(Pool!$L$3),Pool!$L$3=INT(Pool!$L$3),Pool!$L$3>=1,Pool!$L$3<=2958465),FALSE)),NOT(IFERROR(AND(ISTEXT(C101),LEN(TRIM(C101))>0),FALSE)),NOT(IFERROR(AND(ISTEXT(G101),LEN(TRIM(G101))>0),FALSE)),NOT(IFERROR(AND(ISTEXT(H101),LEN(TRIM(H101))>0),FALSE)),AND(D101<>"Approved",D101<>"Pending",D101<>"Withdrawn"),AND(VLOOKUP(A101,Guards!$A$2:$B$101,2,FALSE)<>"Yes",VLOOKUP(A101,Guards!$A$2:$B$101,2,FALSE)<>"No"),AND(VLOOKUP(B101,Sites!$A$2:$D$21,2,FALSE)<>"Yes",VLOOKUP(B101,Sites!$A$2:$D$21,2,FALSE)<>"No"),NOT(IFERROR(AND(ISTEXT(VLOOKUP(B101,Sites!$A$2:$D$21,3,FALSE)),LEN(TRIM(VLOOKUP(B101,Sites!$A$2:$D$21,3,FALSE)))>0),FALSE))),"Review",IF(AND(D101="Approved",E101<=Pool!$L$3,F101>=Pool!$L$3,VLOOKUP(A101,Guards!$A$2:$B$101,2,FALSE)="Yes",VLOOKUP(B101,Sites!$A$2:$D$21,2,FALSE)="Yes",C101=VLOOKUP(B101,Sites!$A$2:$D$21,3,FALSE)),"Eligible","Not eligible")),"Review"))

Sheet Guards
A1: Guard ID | B1: Active | D1: Guard master | E1: Fictional examples only
A2: FG01 | B2: Yes | D2: Editable active status | E2: Yes or No is an operational assumption, not an attendance or availability record.
A3: FG02 | B3: Yes | D3: Unique IDs | E3: Keep one row per guard ID. Duplicate IDs are highlighted and cannot qualify.
A4: FG03 | B4: Yes | D4: Prepared capacity | E4: Rows 2–101 support 100 guards. Pool mirrors these rows. Do not overwrite Pool formulas.
A5: FG04 | B5: Yes
A6: FG05 | B6: No
A7: FG06 | B7: Yes
A8: FG07 | B8: Yes
A9: FG08 | B9: Yes

Sheet Sites
A1: Site ID | B1: Active | C1: Required Induction Version | D1: Fictional Site Label | F1: Site master | G1: Fictional examples only
A2: FS01 | B2: Yes | C2: V2 | D2: Fictional site 01 | F2: Required induction version | G2: Enter a text version, such as V2. Each approval must match the site's current required version.
A3: FS02 | B3: Yes | C3: V1 | D3: Fictional site 02 | F3: Unique and active sites | G3: Duplicate site IDs cannot qualify. Inactive sites return no qualified guards.
A4: FS03 | B4: No | C4: V1 | D4: Fictional site 03 | F4: Prepared capacity | G4: Rows 2–21 support 20 sites. Use nonsensitive site labels, not addresses or access details.
