Workbook

Sheet Open Shifts
A1: Shift ID | B1: Fictional site/post | C1: Planned start | D1: Planned end | E1: Planned hours | F1: Offers recorded | G1: Accepted responses | H1: Accepted replacement | I1: Coverage status | J1: Input check | L1: Review reference | M1: Manual clock; fictional starting value
A2: Fictional Shift 01 | B2: Fictional Cedar / Lobby | C2: 46295.333 | D2: 46295.667 | E2: =IF(OR(C2="",D2=""),"",IF(AND(ISNUMBER(C2),ISNUMBER(D2)),IF(D2<=C2,"",(D2-C2)*24),"")) | F2: =IF(A2="","",COUNTIF('Callout Log'!$A$2:$A$101,A2)) | G2: =IF(A2="","",COUNTIFS('Callout Log'!$A$2:$A$101,A2,'Callout Log'!$F$2:$F$101,"Accepted")) | H2: =IF(A2="","",IF(G2<>1,"",IFERROR(INDEX('Callout Log'!$C$2:$C$101,MATCH(A2,'Callout Log'!$I$2:$I$101,0)),""))) | I2: =IF(A2="","",IF(OR(J2<>"OK",G2>1),"Review",IF(G2=0,"Open",IF(H2="","Review","Accepted—planned")))) | J2: =IF(COUNTA(A2:D2)=0,"",IF(AND(ISTEXT(A2),A2<>"",ISNUMBER(C2),ISNUMBER(D2),AND(OR(Settings!$B$2="",ISNUMBER(Settings!$B$2)),ISNUMBER(Settings!$B$3),Settings!$B$4<>"",OR(Settings!$B$5="US DST observed",Settings!$B$5="No DST",Settings!$B$5="Manual review"))),IF(AND(ISTEXT(B2),B2<>"",COUNTIF($A$2:$A$101,A2)=1,ISERROR(SEARCH("~*",A2)),ISERROR(SEARCH("~?",A2)),ISERROR(SEARCH("~~",A2)),C2>=1,D2>C2,Settings!$B$3>0,COUNTIFS('Callout Log'!$A$2:$A$101,A2,'Callout Log'!$K$2:$K$101,"<>OK")=0,NOT(OR(Settings!$B$5="Manual review",AND(Settings!$B$5="US DST observed",OR(AND(C2<(DATE(YEAR(C2),3,8)+MOD(1-WEEKDAY(DATE(YEAR(C2),3,8)),7))+1,D2>=(DATE(YEAR(C2),3,8)+MOD(1-WEEKDAY(DATE(YEAR(C2),3,8)),7))),AND(C2<(DATE(YEAR(C2),11,1)+MOD(1-WEEKDAY(DATE(YEAR(C2),11,1)),7))+1,D2>=(DATE(YEAR(C2),11,1)+MOD(1-WEEKDAY(DATE(YEAR(C2),11,1)),7))),AND(C2<(DATE(YEAR(D2),3,8)+MOD(1-WEEKDAY(DATE(YEAR(D2),3,8)),7))+1,D2>=(DATE(YEAR(D2),3,8)+MOD(1-WEEKDAY(DATE(YEAR(D2),3,8)),7))),AND(C2<(DATE(YEAR(D2),11,1)+MOD(1-WEEKDAY(DATE(YEAR(D2),11,1)),7))+1,D2>=(DATE(YEAR(D2),11,1)+MOD(1-WEEKDAY(DATE(YEAR(D2),11,1)),7)))))))),"OK","Review input"),"Review input")) | L2: Review timestamp | M2: =IF(Settings!B2="","",Settings!B2)
A3: Fictional Shift 02 | B3: Fictional Maple / Gate | C3: 46296.333 | D3: 46296.667 | E3: =IF(OR(C3="",D3=""),"",IF(AND(ISNUMBER(C3),ISNUMBER(D3)),IF(D3<=C3,"",(D3-C3)*24),"")) | F3: =IF(A3="","",COUNTIF('Callout Log'!$A$2:$A$101,A3)) | G3: =IF(A3="","",COUNTIFS('Callout Log'!$A$2:$A$101,A3,'Callout Log'!$F$2:$F$101,"Accepted")) | H3: =IF(A3="","",IF(G3<>1,"",IFERROR(INDEX('Callout Log'!$C$2:$C$101,MATCH(A3,'Callout Log'!$I$2:$I$101,0)),""))) | I3: =IF(A3="","",IF(OR(J3<>"OK",G3>1),"Review",IF(G3=0,"Open",IF(H3="","Review","Accepted—planned")))) | J3: =IF(COUNTA(A3:D3)=0,"",IF(AND(ISTEXT(A3),A3<>"",ISNUMBER(C3),ISNUMBER(D3),AND(OR(Settings!$B$2="",ISNUMBER(Settings!$B$2)),ISNUMBER(Settings!$B$3),Settings!$B$4<>"",OR(Settings!$B$5="US DST observed",Settings!$B$5="No DST",Settings!$B$5="Manual review"))),IF(AND(ISTEXT(B3),B3<>"",COUNTIF($A$2:$A$101,A3)=1,ISERROR(SEARCH("~*",A3)),ISERROR(SEARCH("~?",A3)),ISERROR(SEARCH("~~",A3)),C3>=1,D3>C3,Settings!$B$3>0,COUNTIFS('Callout Log'!$A$2:$A$101,A3,'Callout Log'!$K$2:$K$101,"<>OK")=0,NOT(OR(Settings!$B$5="Manual review",AND(Settings!$B$5="US DST observed",OR(AND(C3<(DATE(YEAR(C3),3,8)+MOD(1-WEEKDAY(DATE(YEAR(C3),3,8)),7))+1,D3>=(DATE(YEAR(C3),3,8)+MOD(1-WEEKDAY(DATE(YEAR(C3),3,8)),7))),AND(C3<(DATE(YEAR(C3),11,1)+MOD(1-WEEKDAY(DATE(YEAR(C3),11,1)),7))+1,D3>=(DATE(YEAR(C3),11,1)+MOD(1-WEEKDAY(DATE(YEAR(C3),11,1)),7))),AND(C3<(DATE(YEAR(D3),3,8)+MOD(1-WEEKDAY(DATE(YEAR(D3),3,8)),7))+1,D3>=(DATE(YEAR(D3),3,8)+MOD(1-WEEKDAY(DATE(YEAR(D3),3,8)),7))),AND(C3<(DATE(YEAR(D3),11,1)+MOD(1-WEEKDAY(DATE(YEAR(D3),11,1)),7))+1,D3>=(DATE(YEAR(D3),11,1)+MOD(1-WEEKDAY(DATE(YEAR(D3),11,1)),7)))))))),"OK","Review input"),"Review input")) | L3: Local time zone | M3: =IF(Settings!B4="","",Settings!B4)
A4: Fictional Shift 03 | B4: Fictional Birch / Desk | C4: 46296.917 | D4: 46297.25 | E4: =IF(OR(C4="",D4=""),"",IF(AND(ISNUMBER(C4),ISNUMBER(D4)),IF(D4<=C4,"",(D4-C4)*24),"")) | F4: =IF(A4="","",COUNTIF('Callout Log'!$A$2:$A$101,A4)) | G4: =IF(A4="","",COUNTIFS('Callout Log'!$A$2:$A$101,A4,'Callout Log'!$F$2:$F$101,"Accepted")) | H4: =IF(A4="","",IF(G4<>1,"",IFERROR(INDEX('Callout Log'!$C$2:$C$101,MATCH(A4,'Callout Log'!$I$2:$I$101,0)),""))) | I4: =IF(A4="","",IF(OR(J4<>"OK",G4>1),"Review",IF(G4=0,"Open",IF(H4="","Review","Accepted—planned")))) | J4: =IF(COUNTA(A4:D4)=0,"",IF(AND(ISTEXT(A4),A4<>"",ISNUMBER(C4),ISNUMBER(D4),AND(OR(Settings!$B$2="",ISNUMBER(Settings!$B$2)),ISNUMBER(Settings!$B$3),Settings!$B$4<>"",OR(Settings!$B$5="US DST observed",Settings!$B$5="No DST",Settings!$B$5="Manual review"))),IF(AND(ISTEXT(B4),B4<>"",COUNTIF($A$2:$A$101,A4)=1,ISERROR(SEARCH("~*",A4)),ISERROR(SEARCH("~?",A4)),ISERROR(SEARCH("~~",A4)),C4>=1,D4>C4,Settings!$B$3>0,COUNTIFS('Callout Log'!$A$2:$A$101,A4,'Callout Log'!$K$2:$K$101,"<>OK")=0,NOT(OR(Settings!$B$5="Manual review",AND(Settings!$B$5="US DST observed",OR(AND(C4<(DATE(YEAR(C4),3,8)+MOD(1-WEEKDAY(DATE(YEAR(C4),3,8)),7))+1,D4>=(DATE(YEAR(C4),3,8)+MOD(1-WEEKDAY(DATE(YEAR(C4),3,8)),7))),AND(C4<(DATE(YEAR(C4),11,1)+MOD(1-WEEKDAY(DATE(YEAR(C4),11,1)),7))+1,D4>=(DATE(YEAR(C4),11,1)+MOD(1-WEEKDAY(DATE(YEAR(C4),11,1)),7))),AND(C4<(DATE(YEAR(D4),3,8)+MOD(1-WEEKDAY(DATE(YEAR(D4),3,8)),7))+1,D4>=(DATE(YEAR(D4),3,8)+MOD(1-WEEKDAY(DATE(YEAR(D4),3,8)),7))),AND(C4<(DATE(YEAR(D4),11,1)+MOD(1-WEEKDAY(DATE(YEAR(D4),11,1)),7))+1,D4>=(DATE(YEAR(D4),11,1)+MOD(1-WEEKDAY(DATE(YEAR(D4),11,1)),7)))))))),"OK","Review input"),"Review input")) | L4: Allowance (minutes) | M4: =IF(Settings!B3="","",Settings!B3)
A5: Fictional Shift 04 | B5: Fictional Aspen / Lobby | C5: 46297.375 | D5: 46297.708 | E5: =IF(OR(C5="",D5=""),"",IF(AND(ISNUMBER(C5),ISNUMBER(D5)),IF(D5<=C5,"",(D5-C5)*24),"")) | F5: =IF(A5="","",COUNTIF('Callout Log'!$A$2:$A$101,A5)) | G5: =IF(A5="","",COUNTIFS('Callout Log'!$A$2:$A$101,A5,'Callout Log'!$F$2:$F$101,"Accepted")) | H5: =IF(A5="","",IF(G5<>1,"",IFERROR(INDEX('Callout Log'!$C$2:$C$101,MATCH(A5,'Callout Log'!$I$2:$I$101,0)),""))) | I5: =IF(A5="","",IF(OR(J5<>"OK",G5>1),"Review",IF(G5=0,"Open",IF(H5="","Review","Accepted—planned")))) | J5: =IF(COUNTA(A5:D5)=0,"",IF(AND(ISTEXT(A5),A5<>"",ISNUMBER(C5),ISNUMBER(D5),AND(OR(Settings!$B$2="",ISNUMBER(Settings!$B$2)),ISNUMBER(Settings!$B$3),Settings!$B$4<>"",OR(Settings!$B$5="US DST observed",Settings!$B$5="No DST",Settings!$B$5="Manual review"))),IF(AND(ISTEXT(B5),B5<>"",COUNTIF($A$2:$A$101,A5)=1,ISERROR(SEARCH("~*",A5)),ISERROR(SEARCH("~?",A5)),ISERROR(SEARCH("~~",A5)),C5>=1,D5>C5,Settings!$B$3>0,COUNTIFS('Callout Log'!$A$2:$A$101,A5,'Callout Log'!$K$2:$K$101,"<>OK")=0,NOT(OR(Settings!$B$5="Manual review",AND(Settings!$B$5="US DST observed",OR(AND(C5<(DATE(YEAR(C5),3,8)+MOD(1-WEEKDAY(DATE(YEAR(C5),3,8)),7))+1,D5>=(DATE(YEAR(C5),3,8)+MOD(1-WEEKDAY(DATE(YEAR(C5),3,8)),7))),AND(C5<(DATE(YEAR(C5),11,1)+MOD(1-WEEKDAY(DATE(YEAR(C5),11,1)),7))+1,D5>=(DATE(YEAR(C5),11,1)+MOD(1-WEEKDAY(DATE(YEAR(C5),11,1)),7))),AND(C5<(DATE(YEAR(D5),3,8)+MOD(1-WEEKDAY(DATE(YEAR(D5),3,8)),7))+1,D5>=(DATE(YEAR(D5),3,8)+MOD(1-WEEKDAY(DATE(YEAR(D5),3,8)),7))),AND(C5<(DATE(YEAR(D5),11,1)+MOD(1-WEEKDAY(DATE(YEAR(D5),11,1)),7))+1,D5>=(DATE(YEAR(D5),11,1)+MOD(1-WEEKDAY(DATE(YEAR(D5),11,1)),7)))))))),"OK","Review input"),"Review input")) | L5: Coverage meaning | M5: Accepted means planned, not actual attendance.
E6: =IF(OR(C6="",D6=""),"",IF(AND(ISNUMBER(C6),ISNUMBER(D6)),IF(D6<=C6,"",(D6-C6)*24),"")) | F6: =IF(A6="","",COUNTIF('Callout Log'!$A$2:$A$101,A6)) | G6: =IF(A6="","",COUNTIFS('Callout Log'!$A$2:$A$101,A6,'Callout Log'!$F$2:$F$101,"Accepted")) | H6: =IF(A6="","",IF(G6<>1,"",IFERROR(INDEX('Callout Log'!$C$2:$C$101,MATCH(A6,'Callout Log'!$I$2:$I$101,0)),""))) | I6: =IF(A6="","",IF(OR(J6<>"OK",G6>1),"Review",IF(G6=0,"Open",IF(H6="","Review","Accepted—planned")))) | J6: =IF(COUNTA(A6:D6)=0,"",IF(AND(ISTEXT(A6),A6<>"",ISNUMBER(C6),ISNUMBER(D6),AND(OR(Settings!$B$2="",ISNUMBER(Settings!$B$2)),ISNUMBER(Settings!$B$3),Settings!$B$4<>"",OR(Settings!$B$5="US DST observed",Settings!$B$5="No DST",Settings!$B$5="Manual review"))),IF(AND(ISTEXT(B6),B6<>"",COUNTIF($A$2:$A$101,A6)=1,ISERROR(SEARCH("~*",A6)),ISERROR(SEARCH("~?",A6)),ISERROR(SEARCH("~~",A6)),C6>=1,D6>C6,Settings!$B$3>0,COUNTIFS('Callout Log'!$A$2:$A$101,A6,'Callout Log'!$K$2:$K$101,"<>OK")=0,NOT(OR(Settings!$B$5="Manual review",AND(Settings!$B$5="US DST observed",OR(AND(C6<(DATE(YEAR(C6),3,8)+MOD(1-WEEKDAY(DATE(YEAR(C6),3,8)),7))+1,D6>=(DATE(YEAR(C6),3,8)+MOD(1-WEEKDAY(DATE(YEAR(C6),3,8)),7))),AND(C6<(DATE(YEAR(C6),11,1)+MOD(1-WEEKDAY(DATE(YEAR(C6),11,1)),7))+1,D6>=(DATE(YEAR(C6),11,1)+MOD(1-WEEKDAY(DATE(YEAR(C6),11,1)),7))),AND(C6<(DATE(YEAR(D6),3,8)+MOD(1-WEEKDAY(DATE(YEAR(D6),3,8)),7))+1,D6>=(DATE(YEAR(D6),3,8)+MOD(1-WEEKDAY(DATE(YEAR(D6),3,8)),7))),AND(C6<(DATE(YEAR(D6),11,1)+MOD(1-WEEKDAY(DATE(YEAR(D6),11,1)),7))+1,D6>=(DATE(YEAR(D6),11,1)+MOD(1-WEEKDAY(DATE(YEAR(D6),11,1)),7)))))))),"OK","Review input"),"Review input")) | L6: One record | M6: One required guard at one post.
E7: =IF(OR(C7="",D7=""),"",IF(AND(ISNUMBER(C7),ISNUMBER(D7)),IF(D7<=C7,"",(D7-C7)*24),"")) | F7: =IF(A7="","",COUNTIF('Callout Log'!$A$2:$A$101,A7)) | G7: =IF(A7="","",COUNTIFS('Callout Log'!$A$2:$A$101,A7,'Callout Log'!$F$2:$F$101,"Accepted")) | H7: =IF(A7="","",IF(G7<>1,"",IFERROR(INDEX('Callout Log'!$C$2:$C$101,MATCH(A7,'Callout Log'!$I$2:$I$101,0)),""))) | I7: =IF(A7="","",IF(OR(J7<>"OK",G7>1),"Review",IF(G7=0,"Open",IF(H7="","Review","Accepted—planned")))) | J7: =IF(COUNTA(A7:D7)=0,"",IF(AND(ISTEXT(A7),A7<>"",ISNUMBER(C7),ISNUMBER(D7),AND(OR(Settings!$B$2="",ISNUMBER(Settings!$B$2)),ISNUMBER(Settings!$B$3),Settings!$B$4<>"",OR(Settings!$B$5="US DST observed",Settings!$B$5="No DST",Settings!$B$5="Manual review"))),IF(AND(ISTEXT(B7),B7<>"",COUNTIF($A$2:$A$101,A7)=1,ISERROR(SEARCH("~*",A7)),ISERROR(SEARCH("~?",A7)),ISERROR(SEARCH("~~",A7)),C7>=1,D7>C7,Settings!$B$3>0,COUNTIFS('Callout Log'!$A$2:$A$101,A7,'Callout Log'!$K$2:$K$101,"<>OK")=0,NOT(OR(Settings!$B$5="Manual review",AND(Settings!$B$5="US DST observed",OR(AND(C7<(DATE(YEAR(C7),3,8)+MOD(1-WEEKDAY(DATE(YEAR(C7),3,8)),7))+1,D7>=(DATE(YEAR(C7),3,8)+MOD(1-WEEKDAY(DATE(YEAR(C7),3,8)),7))),AND(C7<(DATE(YEAR(C7),11,1)+MOD(1-WEEKDAY(DATE(YEAR(C7),11,1)),7))+1,D7>=(DATE(YEAR(C7),11,1)+MOD(1-WEEKDAY(DATE(YEAR(C7),11,1)),7))),AND(C7<(DATE(YEAR(D7),3,8)+MOD(1-WEEKDAY(DATE(YEAR(D7),3,8)),7))+1,D7>=(DATE(YEAR(D7),3,8)+MOD(1-WEEKDAY(DATE(YEAR(D7),3,8)),7))),AND(C7<(DATE(YEAR(D7),11,1)+MOD(1-WEEKDAY(DATE(YEAR(D7),11,1)),7))+1,D7>=(DATE(YEAR(D7),11,1)+MOD(1-WEEKDAY(DATE(YEAR(D7),11,1)),7)))))))),"OK","Review input"),"Review input")) | L7: Action queue | M7: Filter Callout Log Follow-up for Follow up or Review input.
E8: =IF(OR(C8="",D8=""),"",IF(AND(ISNUMBER(C8),ISNUMBER(D8)),IF(D8<=C8,"",(D8-C8)*24),"")) | F8: =IF(A8="","",COUNTIF('Callout Log'!$A$2:$A$101,A8)) | G8: =IF(A8="","",COUNTIFS('Callout Log'!$A$2:$A$101,A8,'Callout Log'!$F$2:$F$101,"Accepted")) | H8: =IF(A8="","",IF(G8<>1,"",IFERROR(INDEX('Callout Log'!$C$2:$C$101,MATCH(A8,'Callout Log'!$I$2:$I$101,0)),""))) | I8: =IF(A8="","",IF(OR(J8<>"OK",G8>1),"Review",IF(G8=0,"Open",IF(H8="","Review","Accepted—planned")))) | J8: =IF(COUNTA(A8:D8)=0,"",IF(AND(ISTEXT(A8),A8<>"",ISNUMBER(C8),ISNUMBER(D8),AND(OR(Settings!$B$2="",ISNUMBER(Settings!$B$2)),ISNUMBER(Settings!$B$3),Settings!$B$4<>"",OR(Settings!$B$5="US DST observed",Settings!$B$5="No DST",Settings!$B$5="Manual review"))),IF(AND(ISTEXT(B8),B8<>"",COUNTIF($A$2:$A$101,A8)=1,ISERROR(SEARCH("~*",A8)),ISERROR(SEARCH("~?",A8)),ISERROR(SEARCH("~~",A8)),C8>=1,D8>C8,Settings!$B$3>0,COUNTIFS('Callout Log'!$A$2:$A$101,A8,'Callout Log'!$K$2:$K$101,"<>OK")=0,NOT(OR(Settings!$B$5="Manual review",AND(Settings!$B$5="US DST observed",OR(AND(C8<(DATE(YEAR(C8),3,8)+MOD(1-WEEKDAY(DATE(YEAR(C8),3,8)),7))+1,D8>=(DATE(YEAR(C8),3,8)+MOD(1-WEEKDAY(DATE(YEAR(C8),3,8)),7))),AND(C8<(DATE(YEAR(C8),11,1)+MOD(1-WEEKDAY(DATE(YEAR(C8),11,1)),7))+1,D8>=(DATE(YEAR(C8),11,1)+MOD(1-WEEKDAY(DATE(YEAR(C8),11,1)),7))),AND(C8<(DATE(YEAR(D8),3,8)+MOD(1-WEEKDAY(DATE(YEAR(D8),3,8)),7))+1,D8>=(DATE(YEAR(D8),3,8)+MOD(1-WEEKDAY(DATE(YEAR(D8),3,8)),7))),AND(C8<(DATE(YEAR(D8),11,1)+MOD(1-WEEKDAY(DATE(YEAR(D8),11,1)),7))+1,D8>=(DATE(YEAR(D8),11,1)+MOD(1-WEEKDAY(DATE(YEAR(D8),11,1)),7)))))))),"OK","Review input"),"Review input")) | L8: Overnight dates | M8: Enter the next date for the end time.
E9: =IF(OR(C9="",D9=""),"",IF(AND(ISNUMBER(C9),ISNUMBER(D9)),IF(D9<=C9,"",(D9-C9)*24),"")) | F9: =IF(A9="","",COUNTIF('Callout Log'!$A$2:$A$101,A9)) | G9: =IF(A9="","",COUNTIFS('Callout Log'!$A$2:$A$101,A9,'Callout Log'!$F$2:$F$101,"Accepted")) | H9: =IF(A9="","",IF(G9<>1,"",IFERROR(INDEX('Callout Log'!$C$2:$C$101,MATCH(A9,'Callout Log'!$I$2:$I$101,0)),""))) | I9: =IF(A9="","",IF(OR(J9<>"OK",G9>1),"Review",IF(G9=0,"Open",IF(H9="","Review","Accepted—planned")))) | J9: =IF(COUNTA(A9:D9)=0,"",IF(AND(ISTEXT(A9),A9<>"",ISNUMBER(C9),ISNUMBER(D9),AND(OR(Settings!$B$2="",ISNUMBER(Settings!$B$2)),ISNUMBER(Settings!$B$3),Settings!$B$4<>"",OR(Settings!$B$5="US DST observed",Settings!$B$5="No DST",Settings!$B$5="Manual review"))),IF(AND(ISTEXT(B9),B9<>"",COUNTIF($A$2:$A$101,A9)=1,ISERROR(SEARCH("~*",A9)),ISERROR(SEARCH("~?",A9)),ISERROR(SEARCH("~~",A9)),C9>=1,D9>C9,Settings!$B$3>0,COUNTIFS('Callout Log'!$A$2:$A$101,A9,'Callout Log'!$K$2:$K$101,"<>OK")=0,NOT(OR(Settings!$B$5="Manual review",AND(Settings!$B$5="US DST observed",OR(AND(C9<(DATE(YEAR(C9),3,8)+MOD(1-WEEKDAY(DATE(YEAR(C9),3,8)),7))+1,D9>=(DATE(YEAR(C9),3,8)+MOD(1-WEEKDAY(DATE(YEAR(C9),3,8)),7))),AND(C9<(DATE(YEAR(C9),11,1)+MOD(1-WEEKDAY(DATE(YEAR(C9),11,1)),7))+1,D9>=(DATE(YEAR(C9),11,1)+MOD(1-WEEKDAY(DATE(YEAR(C9),11,1)),7))),AND(C9<(DATE(YEAR(D9),3,8)+MOD(1-WEEKDAY(DATE(YEAR(D9),3,8)),7))+1,D9>=(DATE(YEAR(D9),3,8)+MOD(1-WEEKDAY(DATE(YEAR(D9),3,8)),7))),AND(C9<(DATE(YEAR(D9),11,1)+MOD(1-WEEKDAY(DATE(YEAR(D9),11,1)),7))+1,D9>=(DATE(YEAR(D9),11,1)+MOD(1-WEEKDAY(DATE(YEAR(D9),11,1)),7)))))))),"OK","Review input"),"Review input")) | L9: Planned hours | M9: Neither paid hours nor billable hours.
E10: =IF(OR(C10="",D10=""),"",IF(AND(ISNUMBER(C10),ISNUMBER(D10)),IF(D10<=C10,"",(D10-C10)*24),"")) | F10: =IF(A10="","",COUNTIF('Callout Log'!$A$2:$A$101,A10)) | G10: =IF(A10="","",COUNTIFS('Callout Log'!$A$2:$A$101,A10,'Callout Log'!$F$2:$F$101,"Accepted")) | H10: =IF(A10="","",IF(G10<>1,"",IFERROR(INDEX('Callout Log'!$C$2:$C$101,MATCH(A10,'Callout Log'!$I$2:$I$101,0)),""))) | I10: =IF(A10="","",IF(OR(J10<>"OK",G10>1),"Review",IF(G10=0,"Open",IF(H10="","Review","Accepted—planned")))) | J10: =IF(COUNTA(A10:D10)=0,"",IF(AND(ISTEXT(A10),A10<>"",ISNUMBER(C10),ISNUMBER(D10),AND(OR(Settings!$B$2="",ISNUMBER(Settings!$B$2)),ISNUMBER(Settings!$B$3),Settings!$B$4<>"",OR(Settings!$B$5="US DST observed",Settings!$B$5="No DST",Settings!$B$5="Manual review"))),IF(AND(ISTEXT(B10),B10<>"",COUNTIF($A$2:$A$101,A10)=1,ISERROR(SEARCH("~*",A10)),ISERROR(SEARCH("~?",A10)),ISERROR(SEARCH("~~",A10)),C10>=1,D10>C10,Settings!$B$3>0,COUNTIFS('Callout Log'!$A$2:$A$101,A10,'Callout Log'!$K$2:$K$101,"<>OK")=0,NOT(OR(Settings!$B$5="Manual review",AND(Settings!$B$5="US DST observed",OR(AND(C10<(DATE(YEAR(C10),3,8)+MOD(1-WEEKDAY(DATE(YEAR(C10),3,8)),7))+1,D10>=(DATE(YEAR(C10),3,8)+MOD(1-WEEKDAY(DATE(YEAR(C10),3,8)),7))),AND(C10<(DATE(YEAR(C10),11,1)+MOD(1-WEEKDAY(DATE(YEAR(C10),11,1)),7))+1,D10>=(DATE(YEAR(C10),11,1)+MOD(1-WEEKDAY(DATE(YEAR(C10),11,1)),7))),AND(C10<(DATE(YEAR(D10),3,8)+MOD(1-WEEKDAY(DATE(YEAR(D10),3,8)),7))+1,D10>=(DATE(YEAR(D10),3,8)+MOD(1-WEEKDAY(DATE(YEAR(D10),3,8)),7))),AND(C10<(DATE(YEAR(D10),11,1)+MOD(1-WEEKDAY(DATE(YEAR(D10),11,1)),7))+1,D10>=(DATE(YEAR(D10),11,1)+MOD(1-WEEKDAY(DATE(YEAR(D10),11,1)),7)))))))),"OK","Review input"),"Review input")) | L10: Formula cells | M10: Unprotected; edit cream input cells only.
E11: =IF(OR(C11="",D11=""),"",IF(AND(ISNUMBER(C11),ISNUMBER(D11)),IF(D11<=C11,"",(D11-C11)*24),"")) | F11: =IF(A11="","",COUNTIF('Callout Log'!$A$2:$A$101,A11)) | G11: =IF(A11="","",COUNTIFS('Callout Log'!$A$2:$A$101,A11,'Callout Log'!$F$2:$F$101,"Accepted")) | H11: =IF(A11="","",IF(G11<>1,"",IFERROR(INDEX('Callout Log'!$C$2:$C$101,MATCH(A11,'Callout Log'!$I$2:$I$101,0)),""))) | I11: =IF(A11="","",IF(OR(J11<>"OK",G11>1),"Review",IF(G11=0,"Open",IF(H11="","Review","Accepted—planned")))) | J11: =IF(COUNTA(A11:D11)=0,"",IF(AND(ISTEXT(A11),A11<>"",ISNUMBER(C11),ISNUMBER(D11),AND(OR(Settings!$B$2="",ISNUMBER(Settings!$B$2)),ISNUMBER(Settings!$B$3),Settings!$B$4<>"",OR(Settings!$B$5="US DST observed",Settings!$B$5="No DST",Settings!$B$5="Manual review"))),IF(AND(ISTEXT(B11),B11<>"",COUNTIF($A$2:$A$101,A11)=1,ISERROR(SEARCH("~*",A11)),ISERROR(SEARCH("~?",A11)),ISERROR(SEARCH("~~",A11)),C11>=1,D11>C11,Settings!$B$3>0,COUNTIFS('Callout Log'!$A$2:$A$101,A11,'Callout Log'!$K$2:$K$101,"<>OK")=0,NOT(OR(Settings!$B$5="Manual review",AND(Settings!$B$5="US DST observed",OR(AND(C11<(DATE(YEAR(C11),3,8)+MOD(1-WEEKDAY(DATE(YEAR(C11),3,8)),7))+1,D11>=(DATE(YEAR(C11),3,8)+MOD(1-WEEKDAY(DATE(YEAR(C11),3,8)),7))),AND(C11<(DATE(YEAR(C11),11,1)+MOD(1-WEEKDAY(DATE(YEAR(C11),11,1)),7))+1,D11>=(DATE(YEAR(C11),11,1)+MOD(1-WEEKDAY(DATE(YEAR(C11),11,1)),7))),AND(C11<(DATE(YEAR(D11),3,8)+MOD(1-WEEKDAY(DATE(YEAR(D11),3,8)),7))+1,D11>=(DATE(YEAR(D11),3,8)+MOD(1-WEEKDAY(DATE(YEAR(D11),3,8)),7))),AND(C11<(DATE(YEAR(D11),11,1)+MOD(1-WEEKDAY(DATE(YEAR(D11),11,1)),7))+1,D11>=(DATE(YEAR(D11),11,1)+MOD(1-WEEKDAY(DATE(YEAR(D11),11,1)),7)))))))),"OK","Review input"),"Review input")) | L11: Examples | M11: All prefilled operational records are fictional.
E12: =IF(OR(C12="",D12=""),"",IF(AND(ISNUMBER(C12),ISNUMBER(D12)),IF(D12<=C12,"",(D12-C12)*24),"")) | F12: =IF(A12="","",COUNTIF('Callout Log'!$A$2:$A$101,A12)) | G12: =IF(A12="","",COUNTIFS('Callout Log'!$A$2:$A$101,A12,'Callout Log'!$F$2:$F$101,"Accepted")) | H12: =IF(A12="","",IF(G12<>1,"",IFERROR(INDEX('Callout Log'!$C$2:$C$101,MATCH(A12,'Callout Log'!$I$2:$I$101,0)),""))) | I12: =IF(A12="","",IF(OR(J12<>"OK",G12>1),"Review",IF(G12=0,"Open",IF(H12="","Review","Accepted—planned")))) | J12: =IF(COUNTA(A12:D12)=0,"",IF(AND(ISTEXT(A12),A12<>"",ISNUMBER(C12),ISNUMBER(D12),AND(OR(Settings!$B$2="",ISNUMBER(Settings!$B$2)),ISNUMBER(Settings!$B$3),Settings!$B$4<>"",OR(Settings!$B$5="US DST observed",Settings!$B$5="No DST",Settings!$B$5="Manual review"))),IF(AND(ISTEXT(B12),B12<>"",COUNTIF($A$2:$A$101,A12)=1,ISERROR(SEARCH("~*",A12)),ISERROR(SEARCH("~?",A12)),ISERROR(SEARCH("~~",A12)),C12>=1,D12>C12,Settings!$B$3>0,COUNTIFS('Callout Log'!$A$2:$A$101,A12,'Callout Log'!$K$2:$K$101,"<>OK")=0,NOT(OR(Settings!$B$5="Manual review",AND(Settings!$B$5="US DST observed",OR(AND(C12<(DATE(YEAR(C12),3,8)+MOD(1-WEEKDAY(DATE(YEAR(C12),3,8)),7))+1,D12>=(DATE(YEAR(C12),3,8)+MOD(1-WEEKDAY(DATE(YEAR(C12),3,8)),7))),AND(C12<(DATE(YEAR(C12),11,1)+MOD(1-WEEKDAY(DATE(YEAR(C12),11,1)),7))+1,D12>=(DATE(YEAR(C12),11,1)+MOD(1-WEEKDAY(DATE(YEAR(C12),11,1)),7))),AND(C12<(DATE(YEAR(D12),3,8)+MOD(1-WEEKDAY(DATE(YEAR(D12),3,8)),7))+1,D12>=(DATE(YEAR(D12),3,8)+MOD(1-WEEKDAY(DATE(YEAR(D12),3,8)),7))),AND(C12<(DATE(YEAR(D12),11,1)+MOD(1-WEEKDAY(DATE(YEAR(D12),11,1)),7))+1,D12>=(DATE(YEAR(D12),11,1)+MOD(1-WEEKDAY(DATE(YEAR(D12),11,1)),7)))))))),"OK","Review input"),"Review input")) | L12: DST review | M12: Review Settings before relying on local-time subtraction.
E13: =IF(OR(C13="",D13=""),"",IF(AND(ISNUMBER(C13),ISNUMBER(D13)),IF(D13<=C13,"",(D13-C13)*24),"")) | F13: =IF(A13="","",COUNTIF('Callout Log'!$A$2:$A$101,A13)) | G13: =IF(A13="","",COUNTIFS('Callout Log'!$A$2:$A$101,A13,'Callout Log'!$F$2:$F$101,"Accepted")) | H13: =IF(A13="","",IF(G13<>1,"",IFERROR(INDEX('Callout Log'!$C$2:$C$101,MATCH(A13,'Callout Log'!$I$2:$I$101,0)),""))) | I13: =IF(A13="","",IF(OR(J13<>"OK",G13>1),"Review",IF(G13=0,"Open",IF(H13="","Review","Accepted—planned")))) | J13: =IF(COUNTA(A13:D13)=0,"",IF(AND(ISTEXT(A13),A13<>"",ISNUMBER(C13),ISNUMBER(D13),AND(OR(Settings!$B$2="",ISNUMBER(Settings!$B$2)),ISNUMBER(Settings!$B$3),Settings!$B$4<>"",OR(Settings!$B$5="US DST observed",Settings!$B$5="No DST",Settings!$B$5="Manual review"))),IF(AND(ISTEXT(B13),B13<>"",COUNTIF($A$2:$A$101,A13)=1,ISERROR(SEARCH("~*",A13)),ISERROR(SEARCH("~?",A13)),ISERROR(SEARCH("~~",A13)),C13>=1,D13>C13,Settings!$B$3>0,COUNTIFS('Callout Log'!$A$2:$A$101,A13,'Callout Log'!$K$2:$K$101,"<>OK")=0,NOT(OR(Settings!$B$5="Manual review",AND(Settings!$B$5="US DST observed",OR(AND(C13<(DATE(YEAR(C13),3,8)+MOD(1-WEEKDAY(DATE(YEAR(C13),3,8)),7))+1,D13>=(DATE(YEAR(C13),3,8)+MOD(1-WEEKDAY(DATE(YEAR(C13),3,8)),7))),AND(C13<(DATE(YEAR(C13),11,1)+MOD(1-WEEKDAY(DATE(YEAR(C13),11,1)),7))+1,D13>=(DATE(YEAR(C13),11,1)+MOD(1-WEEKDAY(DATE(YEAR(C13),11,1)),7))),AND(C13<(DATE(YEAR(D13),3,8)+MOD(1-WEEKDAY(DATE(YEAR(D13),3,8)),7))+1,D13>=(DATE(YEAR(D13),3,8)+MOD(1-WEEKDAY(DATE(YEAR(D13),3,8)),7))),AND(C13<(DATE(YEAR(D13),11,1)+MOD(1-WEEKDAY(DATE(YEAR(D13),11,1)),7))+1,D13>=(DATE(YEAR(D13),11,1)+MOD(1-WEEKDAY(DATE(YEAR(D13),11,1)),7)))))))),"OK","Review input"),"Review input"))
E14: =IF(OR(C14="",D14=""),"",IF(AND(ISNUMBER(C14),ISNUMBER(D14)),IF(D14<=C14,"",(D14-C14)*24),"")) | F14: =IF(A14="","",COUNTIF('Callout Log'!$A$2:$A$101,A14)) | G14: =IF(A14="","",COUNTIFS('Callout Log'!$A$2:$A$101,A14,'Callout Log'!$F$2:$F$101,"Accepted")) | H14: =IF(A14="","",IF(G14<>1,"",IFERROR(INDEX('Callout Log'!$C$2:$C$101,MATCH(A14,'Callout Log'!$I$2:$I$101,0)),""))) | I14: =IF(A14="","",IF(OR(J14<>"OK",G14>1),"Review",IF(G14=0,"Open",IF(H14="","Review","Accepted—planned")))) | J14: =IF(COUNTA(A14:D14)=0,"",IF(AND(ISTEXT(A14),A14<>"",ISNUMBER(C14),ISNUMBER(D14),AND(OR(Settings!$B$2="",ISNUMBER(Settings!$B$2)),ISNUMBER(Settings!$B$3),Settings!$B$4<>"",OR(Settings!$B$5="US DST observed",Settings!$B$5="No DST",Settings!$B$5="Manual review"))),IF(AND(ISTEXT(B14),B14<>"",COUNTIF($A$2:$A$101,A14)=1,ISERROR(SEARCH("~*",A14)),ISERROR(SEARCH("~?",A14)),ISERROR(SEARCH("~~",A14)),C14>=1,D14>C14,Settings!$B$3>0,COUNTIFS('Callout Log'!$A$2:$A$101,A14,'Callout Log'!$K$2:$K$101,"<>OK")=0,NOT(OR(Settings!$B$5="Manual review",AND(Settings!$B$5="US DST observed",OR(AND(C14<(DATE(YEAR(C14),3,8)+MOD(1-WEEKDAY(DATE(YEAR(C14),3,8)),7))+1,D14>=(DATE(YEAR(C14),3,8)+MOD(1-WEEKDAY(DATE(YEAR(C14),3,8)),7))),AND(C14<(DATE(YEAR(C14),11,1)+MOD(1-WEEKDAY(DATE(YEAR(C14),11,1)),7))+1,D14>=(DATE(YEAR(C14),11,1)+MOD(1-WEEKDAY(DATE(YEAR(C14),11,1)),7))),AND(C14<(DATE(YEAR(D14),3,8)+MOD(1-WEEKDAY(DATE(YEAR(D14),3,8)),7))+1,D14>=(DATE(YEAR(D14),3,8)+MOD(1-WEEKDAY(DATE(YEAR(D14),3,8)),7))),AND(C14<(DATE(YEAR(D14),11,1)+MOD(1-WEEKDAY(DATE(YEAR(D14),11,1)),7))+1,D14>=(DATE(YEAR(D14),11,1)+MOD(1-WEEKDAY(DATE(YEAR(D14),11,1)),7)))))))),"OK","Review input"),"Review input"))
E15: =IF(OR(C15="",D15=""),"",IF(AND(ISNUMBER(C15),ISNUMBER(D15)),IF(D15<=C15,"",(D15-C15)*24),"")) | F15: =IF(A15="","",COUNTIF('Callout Log'!$A$2:$A$101,A15)) | G15: =IF(A15="","",COUNTIFS('Callout Log'!$A$2:$A$101,A15,'Callout Log'!$F$2:$F$101,"Accepted")) | H15: =IF(A15="","",IF(G15<>1,"",IFERROR(INDEX('Callout Log'!$C$2:$C$101,MATCH(A15,'Callout Log'!$I$2:$I$101,0)),""))) | I15: =IF(A15="","",IF(OR(J15<>"OK",G15>1),"Review",IF(G15=0,"Open",IF(H15="","Review","Accepted—planned")))) | J15: =IF(COUNTA(A15:D15)=0,"",IF(AND(ISTEXT(A15),A15<>"",ISNUMBER(C15),ISNUMBER(D15),AND(OR(Settings!$B$2="",ISNUMBER(Settings!$B$2)),ISNUMBER(Settings!$B$3),Settings!$B$4<>"",OR(Settings!$B$5="US DST observed",Settings!$B$5="No DST",Settings!$B$5="Manual review"))),IF(AND(ISTEXT(B15),B15<>"",COUNTIF($A$2:$A$101,A15)=1,ISERROR(SEARCH("~*",A15)),ISERROR(SEARCH("~?",A15)),ISERROR(SEARCH("~~",A15)),C15>=1,D15>C15,Settings!$B$3>0,COUNTIFS('Callout Log'!$A$2:$A$101,A15,'Callout Log'!$K$2:$K$101,"<>OK")=0,NOT(OR(Settings!$B$5="Manual review",AND(Settings!$B$5="US DST observed",OR(AND(C15<(DATE(YEAR(C15),3,8)+MOD(1-WEEKDAY(DATE(YEAR(C15),3,8)),7))+1,D15>=(DATE(YEAR(C15),3,8)+MOD(1-WEEKDAY(DATE(YEAR(C15),3,8)),7))),AND(C15<(DATE(YEAR(C15),11,1)+MOD(1-WEEKDAY(DATE(YEAR(C15),11,1)),7))+1,D15>=(DATE(YEAR(C15),11,1)+MOD(1-WEEKDAY(DATE(YEAR(C15),11,1)),7))),AND(C15<(DATE(YEAR(D15),3,8)+MOD(1-WEEKDAY(DATE(YEAR(D15),3,8)),7))+1,D15>=(DATE(YEAR(D15),3,8)+MOD(1-WEEKDAY(DATE(YEAR(D15),3,8)),7))),AND(C15<(DATE(YEAR(D15),11,1)+MOD(1-WEEKDAY(DATE(YEAR(D15),11,1)),7))+1,D15>=(DATE(YEAR(D15),11,1)+MOD(1-WEEKDAY(DATE(YEAR(D15),11,1)),7)))))))),"OK","Review input"),"Review input"))
E16: =IF(OR(C16="",D16=""),"",IF(AND(ISNUMBER(C16),ISNUMBER(D16)),IF(D16<=C16,"",(D16-C16)*24),"")) | F16: =IF(A16="","",COUNTIF('Callout Log'!$A$2:$A$101,A16)) | G16: =IF(A16="","",COUNTIFS('Callout Log'!$A$2:$A$101,A16,'Callout Log'!$F$2:$F$101,"Accepted")) | H16: =IF(A16="","",IF(G16<>1,"",IFERROR(INDEX('Callout Log'!$C$2:$C$101,MATCH(A16,'Callout Log'!$I$2:$I$101,0)),""))) | I16: =IF(A16="","",IF(OR(J16<>"OK",G16>1),"Review",IF(G16=0,"Open",IF(H16="","Review","Accepted—planned")))) | J16: =IF(COUNTA(A16:D16)=0,"",IF(AND(ISTEXT(A16),A16<>"",ISNUMBER(C16),ISNUMBER(D16),AND(OR(Settings!$B$2="",ISNUMBER(Settings!$B$2)),ISNUMBER(Settings!$B$3),Settings!$B$4<>"",OR(Settings!$B$5="US DST observed",Settings!$B$5="No DST",Settings!$B$5="Manual review"))),IF(AND(ISTEXT(B16),B16<>"",COUNTIF($A$2:$A$101,A16)=1,ISERROR(SEARCH("~*",A16)),ISERROR(SEARCH("~?",A16)),ISERROR(SEARCH("~~",A16)),C16>=1,D16>C16,Settings!$B$3>0,COUNTIFS('Callout Log'!$A$2:$A$101,A16,'Callout Log'!$K$2:$K$101,"<>OK")=0,NOT(OR(Settings!$B$5="Manual review",AND(Settings!$B$5="US DST observed",OR(AND(C16<(DATE(YEAR(C16),3,8)+MOD(1-WEEKDAY(DATE(YEAR(C16),3,8)),7))+1,D16>=(DATE(YEAR(C16),3,8)+MOD(1-WEEKDAY(DATE(YEAR(C16),3,8)),7))),AND(C16<(DATE(YEAR(C16),11,1)+MOD(1-WEEKDAY(DATE(YEAR(C16),11,1)),7))+1,D16>=(DATE(YEAR(C16),11,1)+MOD(1-WEEKDAY(DATE(YEAR(C16),11,1)),7))),AND(C16<(DATE(YEAR(D16),3,8)+MOD(1-WEEKDAY(DATE(YEAR(D16),3,8)),7))+1,D16>=(DATE(YEAR(D16),3,8)+MOD(1-WEEKDAY(DATE(YEAR(D16),3,8)),7))),AND(C16<(DATE(YEAR(D16),11,1)+MOD(1-WEEKDAY(DATE(YEAR(D16),11,1)),7))+1,D16>=(DATE(YEAR(D16),11,1)+MOD(1-WEEKDAY(DATE(YEAR(D16),11,1)),7)))))))),"OK","Review input"),"Review input"))
E17: =IF(OR(C17="",D17=""),"",IF(AND(ISNUMBER(C17),ISNUMBER(D17)),IF(D17<=C17,"",(D17-C17)*24),"")) | F17: =IF(A17="","",COUNTIF('Callout Log'!$A$2:$A$101,A17)) | G17: =IF(A17="","",COUNTIFS('Callout Log'!$A$2:$A$101,A17,'Callout Log'!$F$2:$F$101,"Accepted")) | H17: =IF(A17="","",IF(G17<>1,"",IFERROR(INDEX('Callout Log'!$C$2:$C$101,MATCH(A17,'Callout Log'!$I$2:$I$101,0)),""))) | I17: =IF(A17="","",IF(OR(J17<>"OK",G17>1),"Review",IF(G17=0,"Open",IF(H17="","Review","Accepted—planned")))) | J17: =IF(COUNTA(A17:D17)=0,"",IF(AND(ISTEXT(A17),A17<>"",ISNUMBER(C17),ISNUMBER(D17),AND(OR(Settings!$B$2="",ISNUMBER(Settings!$B$2)),ISNUMBER(Settings!$B$3),Settings!$B$4<>"",OR(Settings!$B$5="US DST observed",Settings!$B$5="No DST",Settings!$B$5="Manual review"))),IF(AND(ISTEXT(B17),B17<>"",COUNTIF($A$2:$A$101,A17)=1,ISERROR(SEARCH("~*",A17)),ISERROR(SEARCH("~?",A17)),ISERROR(SEARCH("~~",A17)),C17>=1,D17>C17,Settings!$B$3>0,COUNTIFS('Callout Log'!$A$2:$A$101,A17,'Callout Log'!$K$2:$K$101,"<>OK")=0,NOT(OR(Settings!$B$5="Manual review",AND(Settings!$B$5="US DST observed",OR(AND(C17<(DATE(YEAR(C17),3,8)+MOD(1-WEEKDAY(DATE(YEAR(C17),3,8)),7))+1,D17>=(DATE(YEAR(C17),3,8)+MOD(1-WEEKDAY(DATE(YEAR(C17),3,8)),7))),AND(C17<(DATE(YEAR(C17),11,1)+MOD(1-WEEKDAY(DATE(YEAR(C17),11,1)),7))+1,D17>=(DATE(YEAR(C17),11,1)+MOD(1-WEEKDAY(DATE(YEAR(C17),11,1)),7))),AND(C17<(DATE(YEAR(D17),3,8)+MOD(1-WEEKDAY(DATE(YEAR(D17),3,8)),7))+1,D17>=(DATE(YEAR(D17),3,8)+MOD(1-WEEKDAY(DATE(YEAR(D17),3,8)),7))),AND(C17<(DATE(YEAR(D17),11,1)+MOD(1-WEEKDAY(DATE(YEAR(D17),11,1)),7))+1,D17>=(DATE(YEAR(D17),11,1)+MOD(1-WEEKDAY(DATE(YEAR(D17),11,1)),7)))))))),"OK","Review input"),"Review input"))
E18: =IF(OR(C18="",D18=""),"",IF(AND(ISNUMBER(C18),ISNUMBER(D18)),IF(D18<=C18,"",(D18-C18)*24),"")) | F18: =IF(A18="","",COUNTIF('Callout Log'!$A$2:$A$101,A18)) | G18: =IF(A18="","",COUNTIFS('Callout Log'!$A$2:$A$101,A18,'Callout Log'!$F$2:$F$101,"Accepted")) | H18: =IF(A18="","",IF(G18<>1,"",IFERROR(INDEX('Callout Log'!$C$2:$C$101,MATCH(A18,'Callout Log'!$I$2:$I$101,0)),""))) | I18: =IF(A18="","",IF(OR(J18<>"OK",G18>1),"Review",IF(G18=0,"Open",IF(H18="","Review","Accepted—planned")))) | J18: =IF(COUNTA(A18:D18)=0,"",IF(AND(ISTEXT(A18),A18<>"",ISNUMBER(C18),ISNUMBER(D18),AND(OR(Settings!$B$2="",ISNUMBER(Settings!$B$2)),ISNUMBER(Settings!$B$3),Settings!$B$4<>"",OR(Settings!$B$5="US DST observed",Settings!$B$5="No DST",Settings!$B$5="Manual review"))),IF(AND(ISTEXT(B18),B18<>"",COUNTIF($A$2:$A$101,A18)=1,ISERROR(SEARCH("~*",A18)),ISERROR(SEARCH("~?",A18)),ISERROR(SEARCH("~~",A18)),C18>=1,D18>C18,Settings!$B$3>0,COUNTIFS('Callout Log'!$A$2:$A$101,A18,'Callout Log'!$K$2:$K$101,"<>OK")=0,NOT(OR(Settings!$B$5="Manual review",AND(Settings!$B$5="US DST observed",OR(AND(C18<(DATE(YEAR(C18),3,8)+MOD(1-WEEKDAY(DATE(YEAR(C18),3,8)),7))+1,D18>=(DATE(YEAR(C18),3,8)+MOD(1-WEEKDAY(DATE(YEAR(C18),3,8)),7))),AND(C18<(DATE(YEAR(C18),11,1)+MOD(1-WEEKDAY(DATE(YEAR(C18),11,1)),7))+1,D18>=(DATE(YEAR(C18),11,1)+MOD(1-WEEKDAY(DATE(YEAR(C18),11,1)),7))),AND(C18<(DATE(YEAR(D18),3,8)+MOD(1-WEEKDAY(DATE(YEAR(D18),3,8)),7))+1,D18>=(DATE(YEAR(D18),3,8)+MOD(1-WEEKDAY(DATE(YEAR(D18),3,8)),7))),AND(C18<(DATE(YEAR(D18),11,1)+MOD(1-WEEKDAY(DATE(YEAR(D18),11,1)),7))+1,D18>=(DATE(YEAR(D18),11,1)+MOD(1-WEEKDAY(DATE(YEAR(D18),11,1)),7)))))))),"OK","Review input"),"Review input"))
E19: =IF(OR(C19="",D19=""),"",IF(AND(ISNUMBER(C19),ISNUMBER(D19)),IF(D19<=C19,"",(D19-C19)*24),"")) | F19: =IF(A19="","",COUNTIF('Callout Log'!$A$2:$A$101,A19)) | G19: =IF(A19="","",COUNTIFS('Callout Log'!$A$2:$A$101,A19,'Callout Log'!$F$2:$F$101,"Accepted")) | H19: =IF(A19="","",IF(G19<>1,"",IFERROR(INDEX('Callout Log'!$C$2:$C$101,MATCH(A19,'Callout Log'!$I$2:$I$101,0)),""))) | I19: =IF(A19="","",IF(OR(J19<>"OK",G19>1),"Review",IF(G19=0,"Open",IF(H19="","Review","Accepted—planned")))) | J19: =IF(COUNTA(A19:D19)=0,"",IF(AND(ISTEXT(A19),A19<>"",ISNUMBER(C19),ISNUMBER(D19),AND(OR(Settings!$B$2="",ISNUMBER(Settings!$B$2)),ISNUMBER(Settings!$B$3),Settings!$B$4<>"",OR(Settings!$B$5="US DST observed",Settings!$B$5="No DST",Settings!$B$5="Manual review"))),IF(AND(ISTEXT(B19),B19<>"",COUNTIF($A$2:$A$101,A19)=1,ISERROR(SEARCH("~*",A19)),ISERROR(SEARCH("~?",A19)),ISERROR(SEARCH("~~",A19)),C19>=1,D19>C19,Settings!$B$3>0,COUNTIFS('Callout Log'!$A$2:$A$101,A19,'Callout Log'!$K$2:$K$101,"<>OK")=0,NOT(OR(Settings!$B$5="Manual review",AND(Settings!$B$5="US DST observed",OR(AND(C19<(DATE(YEAR(C19),3,8)+MOD(1-WEEKDAY(DATE(YEAR(C19),3,8)),7))+1,D19>=(DATE(YEAR(C19),3,8)+MOD(1-WEEKDAY(DATE(YEAR(C19),3,8)),7))),AND(C19<(DATE(YEAR(C19),11,1)+MOD(1-WEEKDAY(DATE(YEAR(C19),11,1)),7))+1,D19>=(DATE(YEAR(C19),11,1)+MOD(1-WEEKDAY(DATE(YEAR(C19),11,1)),7))),AND(C19<(DATE(YEAR(D19),3,8)+MOD(1-WEEKDAY(DATE(YEAR(D19),3,8)),7))+1,D19>=(DATE(YEAR(D19),3,8)+MOD(1-WEEKDAY(DATE(YEAR(D19),3,8)),7))),AND(C19<(DATE(YEAR(D19),11,1)+MOD(1-WEEKDAY(DATE(YEAR(D19),11,1)),7))+1,D19>=(DATE(YEAR(D19),11,1)+MOD(1-WEEKDAY(DATE(YEAR(D19),11,1)),7)))))))),"OK","Review input"),"Review input"))
E20: =IF(OR(C20="",D20=""),"",IF(AND(ISNUMBER(C20),ISNUMBER(D20)),IF(D20<=C20,"",(D20-C20)*24),"")) | F20: =IF(A20="","",COUNTIF('Callout Log'!$A$2:$A$101,A20)) | G20: =IF(A20="","",COUNTIFS('Callout Log'!$A$2:$A$101,A20,'Callout Log'!$F$2:$F$101,"Accepted")) | H20: =IF(A20="","",IF(G20<>1,"",IFERROR(INDEX('Callout Log'!$C$2:$C$101,MATCH(A20,'Callout Log'!$I$2:$I$101,0)),""))) | I20: =IF(A20="","",IF(OR(J20<>"OK",G20>1),"Review",IF(G20=0,"Open",IF(H20="","Review","Accepted—planned")))) | J20: =IF(COUNTA(A20:D20)=0,"",IF(AND(ISTEXT(A20),A20<>"",ISNUMBER(C20),ISNUMBER(D20),AND(OR(Settings!$B$2="",ISNUMBER(Settings!$B$2)),ISNUMBER(Settings!$B$3),Settings!$B$4<>"",OR(Settings!$B$5="US DST observed",Settings!$B$5="No DST",Settings!$B$5="Manual review"))),IF(AND(ISTEXT(B20),B20<>"",COUNTIF($A$2:$A$101,A20)=1,ISERROR(SEARCH("~*",A20)),ISERROR(SEARCH("~?",A20)),ISERROR(SEARCH("~~",A20)),C20>=1,D20>C20,Settings!$B$3>0,COUNTIFS('Callout Log'!$A$2:$A$101,A20,'Callout Log'!$K$2:$K$101,"<>OK")=0,NOT(OR(Settings!$B$5="Manual review",AND(Settings!$B$5="US DST observed",OR(AND(C20<(DATE(YEAR(C20),3,8)+MOD(1-WEEKDAY(DATE(YEAR(C20),3,8)),7))+1,D20>=(DATE(YEAR(C20),3,8)+MOD(1-WEEKDAY(DATE(YEAR(C20),3,8)),7))),AND(C20<(DATE(YEAR(C20),11,1)+MOD(1-WEEKDAY(DATE(YEAR(C20),11,1)),7))+1,D20>=(DATE(YEAR(C20),11,1)+MOD(1-WEEKDAY(DATE(YEAR(C20),11,1)),7))),AND(C20<(DATE(YEAR(D20),3,8)+MOD(1-WEEKDAY(DATE(YEAR(D20),3,8)),7))+1,D20>=(DATE(YEAR(D20),3,8)+MOD(1-WEEKDAY(DATE(YEAR(D20),3,8)),7))),AND(C20<(DATE(YEAR(D20),11,1)+MOD(1-WEEKDAY(DATE(YEAR(D20),11,1)),7))+1,D20>=(DATE(YEAR(D20),11,1)+MOD(1-WEEKDAY(DATE(YEAR(D20),11,1)),7)))))))),"OK","Review input"),"Review input"))
E21: =IF(OR(C21="",D21=""),"",IF(AND(ISNUMBER(C21),ISNUMBER(D21)),IF(D21<=C21,"",(D21-C21)*24),"")) | F21: =IF(A21="","",COUNTIF('Callout Log'!$A$2:$A$101,A21)) | G21: =IF(A21="","",COUNTIFS('Callout Log'!$A$2:$A$101,A21,'Callout Log'!$F$2:$F$101,"Accepted")) | H21: =IF(A21="","",IF(G21<>1,"",IFERROR(INDEX('Callout Log'!$C$2:$C$101,MATCH(A21,'Callout Log'!$I$2:$I$101,0)),""))) | I21: =IF(A21="","",IF(OR(J21<>"OK",G21>1),"Review",IF(G21=0,"Open",IF(H21="","Review","Accepted—planned")))) | J21: =IF(COUNTA(A21:D21)=0,"",IF(AND(ISTEXT(A21),A21<>"",ISNUMBER(C21),ISNUMBER(D21),AND(OR(Settings!$B$2="",ISNUMBER(Settings!$B$2)),ISNUMBER(Settings!$B$3),Settings!$B$4<>"",OR(Settings!$B$5="US DST observed",Settings!$B$5="No DST",Settings!$B$5="Manual review"))),IF(AND(ISTEXT(B21),B21<>"",COUNTIF($A$2:$A$101,A21)=1,ISERROR(SEARCH("~*",A21)),ISERROR(SEARCH("~?",A21)),ISERROR(SEARCH("~~",A21)),C21>=1,D21>C21,Settings!$B$3>0,COUNTIFS('Callout Log'!$A$2:$A$101,A21,'Callout Log'!$K$2:$K$101,"<>OK")=0,NOT(OR(Settings!$B$5="Manual review",AND(Settings!$B$5="US DST observed",OR(AND(C21<(DATE(YEAR(C21),3,8)+MOD(1-WEEKDAY(DATE(YEAR(C21),3,8)),7))+1,D21>=(DATE(YEAR(C21),3,8)+MOD(1-WEEKDAY(DATE(YEAR(C21),3,8)),7))),AND(C21<(DATE(YEAR(C21),11,1)+MOD(1-WEEKDAY(DATE(YEAR(C21),11,1)),7))+1,D21>=(DATE(YEAR(C21),11,1)+MOD(1-WEEKDAY(DATE(YEAR(C21),11,1)),7))),AND(C21<(DATE(YEAR(D21),3,8)+MOD(1-WEEKDAY(DATE(YEAR(D21),3,8)),7))+1,D21>=(DATE(YEAR(D21),3,8)+MOD(1-WEEKDAY(DATE(YEAR(D21),3,8)),7))),AND(C21<(DATE(YEAR(D21),11,1)+MOD(1-WEEKDAY(DATE(YEAR(D21),11,1)),7))+1,D21>=(DATE(YEAR(D21),11,1)+MOD(1-WEEKDAY(DATE(YEAR(D21),11,1)),7)))))))),"OK","Review input"),"Review input"))
E22: =IF(OR(C22="",D22=""),"",IF(AND(ISNUMBER(C22),ISNUMBER(D22)),IF(D22<=C22,"",(D22-C22)*24),"")) | F22: =IF(A22="","",COUNTIF('Callout Log'!$A$2:$A$101,A22)) | G22: =IF(A22="","",COUNTIFS('Callout Log'!$A$2:$A$101,A22,'Callout Log'!$F$2:$F$101,"Accepted")) | H22: =IF(A22="","",IF(G22<>1,"",IFERROR(INDEX('Callout Log'!$C$2:$C$101,MATCH(A22,'Callout Log'!$I$2:$I$101,0)),""))) | I22: =IF(A22="","",IF(OR(J22<>"OK",G22>1),"Review",IF(G22=0,"Open",IF(H22="","Review","Accepted—planned")))) | J22: =IF(COUNTA(A22:D22)=0,"",IF(AND(ISTEXT(A22),A22<>"",ISNUMBER(C22),ISNUMBER(D22),AND(OR(Settings!$B$2="",ISNUMBER(Settings!$B$2)),ISNUMBER(Settings!$B$3),Settings!$B$4<>"",OR(Settings!$B$5="US DST observed",Settings!$B$5="No DST",Settings!$B$5="Manual review"))),IF(AND(ISTEXT(B22),B22<>"",COUNTIF($A$2:$A$101,A22)=1,ISERROR(SEARCH("~*",A22)),ISERROR(SEARCH("~?",A22)),ISERROR(SEARCH("~~",A22)),C22>=1,D22>C22,Settings!$B$3>0,COUNTIFS('Callout Log'!$A$2:$A$101,A22,'Callout Log'!$K$2:$K$101,"<>OK")=0,NOT(OR(Settings!$B$5="Manual review",AND(Settings!$B$5="US DST observed",OR(AND(C22<(DATE(YEAR(C22),3,8)+MOD(1-WEEKDAY(DATE(YEAR(C22),3,8)),7))+1,D22>=(DATE(YEAR(C22),3,8)+MOD(1-WEEKDAY(DATE(YEAR(C22),3,8)),7))),AND(C22<(DATE(YEAR(C22),11,1)+MOD(1-WEEKDAY(DATE(YEAR(C22),11,1)),7))+1,D22>=(DATE(YEAR(C22),11,1)+MOD(1-WEEKDAY(DATE(YEAR(C22),11,1)),7))),AND(C22<(DATE(YEAR(D22),3,8)+MOD(1-WEEKDAY(DATE(YEAR(D22),3,8)),7))+1,D22>=(DATE(YEAR(D22),3,8)+MOD(1-WEEKDAY(DATE(YEAR(D22),3,8)),7))),AND(C22<(DATE(YEAR(D22),11,1)+MOD(1-WEEKDAY(DATE(YEAR(D22),11,1)),7))+1,D22>=(DATE(YEAR(D22),11,1)+MOD(1-WEEKDAY(DATE(YEAR(D22),11,1)),7)))))))),"OK","Review input"),"Review input"))
E23: =IF(OR(C23="",D23=""),"",IF(AND(ISNUMBER(C23),ISNUMBER(D23)),IF(D23<=C23,"",(D23-C23)*24),"")) | F23: =IF(A23="","",COUNTIF('Callout Log'!$A$2:$A$101,A23)) | G23: =IF(A23="","",COUNTIFS('Callout Log'!$A$2:$A$101,A23,'Callout Log'!$F$2:$F$101,"Accepted")) | H23: =IF(A23="","",IF(G23<>1,"",IFERROR(INDEX('Callout Log'!$C$2:$C$101,MATCH(A23,'Callout Log'!$I$2:$I$101,0)),""))) | I23: =IF(A23="","",IF(OR(J23<>"OK",G23>1),"Review",IF(G23=0,"Open",IF(H23="","Review","Accepted—planned")))) | J23: =IF(COUNTA(A23:D23)=0,"",IF(AND(ISTEXT(A23),A23<>"",ISNUMBER(C23),ISNUMBER(D23),AND(OR(Settings!$B$2="",ISNUMBER(Settings!$B$2)),ISNUMBER(Settings!$B$3),Settings!$B$4<>"",OR(Settings!$B$5="US DST observed",Settings!$B$5="No DST",Settings!$B$5="Manual review"))),IF(AND(ISTEXT(B23),B23<>"",COUNTIF($A$2:$A$101,A23)=1,ISERROR(SEARCH("~*",A23)),ISERROR(SEARCH("~?",A23)),ISERROR(SEARCH("~~",A23)),C23>=1,D23>C23,Settings!$B$3>0,COUNTIFS('Callout Log'!$A$2:$A$101,A23,'Callout Log'!$K$2:$K$101,"<>OK")=0,NOT(OR(Settings!$B$5="Manual review",AND(Settings!$B$5="US DST observed",OR(AND(C23<(DATE(YEAR(C23),3,8)+MOD(1-WEEKDAY(DATE(YEAR(C23),3,8)),7))+1,D23>=(DATE(YEAR(C23),3,8)+MOD(1-WEEKDAY(DATE(YEAR(C23),3,8)),7))),AND(C23<(DATE(YEAR(C23),11,1)+MOD(1-WEEKDAY(DATE(YEAR(C23),11,1)),7))+1,D23>=(DATE(YEAR(C23),11,1)+MOD(1-WEEKDAY(DATE(YEAR(C23),11,1)),7))),AND(C23<(DATE(YEAR(D23),3,8)+MOD(1-WEEKDAY(DATE(YEAR(D23),3,8)),7))+1,D23>=(DATE(YEAR(D23),3,8)+MOD(1-WEEKDAY(DATE(YEAR(D23),3,8)),7))),AND(C23<(DATE(YEAR(D23),11,1)+MOD(1-WEEKDAY(DATE(YEAR(D23),11,1)),7))+1,D23>=(DATE(YEAR(D23),11,1)+MOD(1-WEEKDAY(DATE(YEAR(D23),11,1)),7)))))))),"OK","Review input"),"Review input"))
E24: =IF(OR(C24="",D24=""),"",IF(AND(ISNUMBER(C24),ISNUMBER(D24)),IF(D24<=C24,"",(D24-C24)*24),"")) | F24: =IF(A24="","",COUNTIF('Callout Log'!$A$2:$A$101,A24)) | G24: =IF(A24="","",COUNTIFS('Callout Log'!$A$2:$A$101,A24,'Callout Log'!$F$2:$F$101,"Accepted")) | H24: =IF(A24="","",IF(G24<>1,"",IFERROR(INDEX('Callout Log'!$C$2:$C$101,MATCH(A24,'Callout Log'!$I$2:$I$101,0)),""))) | I24: =IF(A24="","",IF(OR(J24<>"OK",G24>1),"Review",IF(G24=0,"Open",IF(H24="","Review","Accepted—planned")))) | J24: =IF(COUNTA(A24:D24)=0,"",IF(AND(ISTEXT(A24),A24<>"",ISNUMBER(C24),ISNUMBER(D24),AND(OR(Settings!$B$2="",ISNUMBER(Settings!$B$2)),ISNUMBER(Settings!$B$3),Settings!$B$4<>"",OR(Settings!$B$5="US DST observed",Settings!$B$5="No DST",Settings!$B$5="Manual review"))),IF(AND(ISTEXT(B24),B24<>"",COUNTIF($A$2:$A$101,A24)=1,ISERROR(SEARCH("~*",A24)),ISERROR(SEARCH("~?",A24)),ISERROR(SEARCH("~~",A24)),C24>=1,D24>C24,Settings!$B$3>0,COUNTIFS('Callout Log'!$A$2:$A$101,A24,'Callout Log'!$K$2:$K$101,"<>OK")=0,NOT(OR(Settings!$B$5="Manual review",AND(Settings!$B$5="US DST observed",OR(AND(C24<(DATE(YEAR(C24),3,8)+MOD(1-WEEKDAY(DATE(YEAR(C24),3,8)),7))+1,D24>=(DATE(YEAR(C24),3,8)+MOD(1-WEEKDAY(DATE(YEAR(C24),3,8)),7))),AND(C24<(DATE(YEAR(C24),11,1)+MOD(1-WEEKDAY(DATE(YEAR(C24),11,1)),7))+1,D24>=(DATE(YEAR(C24),11,1)+MOD(1-WEEKDAY(DATE(YEAR(C24),11,1)),7))),AND(C24<(DATE(YEAR(D24),3,8)+MOD(1-WEEKDAY(DATE(YEAR(D24),3,8)),7))+1,D24>=(DATE(YEAR(D24),3,8)+MOD(1-WEEKDAY(DATE(YEAR(D24),3,8)),7))),AND(C24<(DATE(YEAR(D24),11,1)+MOD(1-WEEKDAY(DATE(YEAR(D24),11,1)),7))+1,D24>=(DATE(YEAR(D24),11,1)+MOD(1-WEEKDAY(DATE(YEAR(D24),11,1)),7)))))))),"OK","Review input"),"Review input"))
... E101: =IF(OR(C101="",D101=""),"",IF(AND(ISNUMBER(C101),ISNUMBER(D101)),IF(D101<=C101,"",(D101-C101)*24),"")) | F101: =IF(A101="","",COUNTIF('Callout Log'!$A$2:$A$101,A101)) | G101: =IF(A101="","",COUNTIFS('Callout Log'!$A$2:$A$101,A101,'Callout Log'!$F$2:$F$101,"Accepted")) | H101: =IF(A101="","",IF(G101<>1,"",IFERROR(INDEX('Callout Log'!$C$2:$C$101,MATCH(A101,'Callout Log'!$I$2:$I$101,0)),""))) | I101: =IF(A101="","",IF(OR(J101<>"OK",G101>1),"Review",IF(G101=0,"Open",IF(H101="","Review","Accepted—planned")))) | J101: =IF(COUNTA(A101:D101)=0,"",IF(AND(ISTEXT(A101),A101<>"",ISNUMBER(C101),ISNUMBER(D101),AND(OR(Settings!$B$2="",ISNUMBER(Settings!$B$2)),ISNUMBER(Settings!$B$3),Settings!$B$4<>"",OR(Settings!$B$5="US DST observed",Settings!$B$5="No DST",Settings!$B$5="Manual review"))),IF(AND(ISTEXT(B101),B101<>"",COUNTIF($A$2:$A$101,A101)=1,ISERROR(SEARCH("~*",A101)),ISERROR(SEARCH("~?",A101)),ISERROR(SEARCH("~~",A101)),C101>=1,D101>C101,Settings!$B$3>0,COUNTIFS('Callout Log'!$A$2:$A$101,A101,'Callout Log'!$K$2:$K$101,"<>OK")=0,NOT(OR(Settings!$B$5="Manual review",AND(Settings!$B$5="US DST observed",OR(AND(C101<(DATE(YEAR(C101),3,8)+MOD(1-WEEKDAY(DATE(YEAR(C101),3,8)),7))+1,D101>=(DATE(YEAR(C101),3,8)+MOD(1-WEEKDAY(DATE(YEAR(C101),3,8)),7))),AND(C101<(DATE(YEAR(C101),11,1)+MOD(1-WEEKDAY(DATE(YEAR(C101),11,1)),7))+1,D101>=(DATE(YEAR(C101),11,1)+MOD(1-WEEKDAY(DATE(YEAR(C101),11,1)),7))),AND(C101<(DATE(YEAR(D101),3,8)+MOD(1-WEEKDAY(DATE(YEAR(D101),3,8)),7))+1,D101>=(DATE(YEAR(D101),3,8)+MOD(1-WEEKDAY(DATE(YEAR(D101),3,8)),7))),AND(C101<(DATE(YEAR(D101),11,1)+MOD(1-WEEKDAY(DATE(YEAR(D101),11,1)),7))+1,D101>=(DATE(YEAR(D101),11,1)+MOD(1-WEEKDAY(DATE(YEAR(D101),11,1)),7)))))))),"OK","Review input"),"Review input"))

Sheet Callout Log
A1: Shift ID | B1: Contact sequence | C1: Guard ID | D1: Offered at | E1: Response deadline | F1: Response | G1: Responded at | H1: Dispatcher note | I1: Accepted key | J1: Follow-up | K1: Input check | L1: Suggested deadline | N1: Shift dropdown helper | O1: Guard dropdown helper | P1: Response dropdown helper
A2: Fictional Shift 01 | B2: 1 | C2: Fictional Guard 01 | D2: 46294.733 | E2: 46294.754 | F2: Declined | G2: 46294.744 | H2: Fictional example: Declined; next offer recorded separately. | I2: =IF(AND(A2<>"",C2<>"",F2="Accepted",G2<>"",COUNTIF('Open Shifts'!$A$2:$A$101,A2)=1),A2,"") | J2: =IF(A2="","",IF(K2<>"OK","Review input",IF(F2<>"Pending",F2,IF(E2="","Set deadline",IF(Settings!$B$2="","Set review time",IF(E2<=Settings!$B$2,"Follow up","Await response")))))) | K2: =IF(COUNTA(A2:H2)=0,"",IF(AND(ISTEXT(A2),A2<>"",ISNUMBER(B2),ISNUMBER(D2),OR(E2="",ISNUMBER(E2)),OR(G2="",ISNUMBER(G2)),AND(OR(Settings!$B$2="",ISNUMBER(Settings!$B$2)),ISNUMBER(Settings!$B$3),Settings!$B$4<>"",OR(Settings!$B$5="US DST observed",Settings!$B$5="No DST",Settings!$B$5="Manual review"))),IF(AND(COUNTIF('Open Shifts'!$A$2:$A$101,A2)=1,B2>0,B2=INT(B2),COUNTIFS($A$2:$A$101,A2,$B$2:$B$101,B2)=1,COUNTIF(Settings!$D$2:$D$9,C2)=1,COUNTIF(Settings!$F$2:$F$6,F2)=1,OR(F2="Pending",F2="Accepted",F2="Declined",F2="No response",F2="Withdrawn"),D2>=1,OR(E2="",E2>=D2),OR(G2="",G2>=D2),OR(F2="Pending",E2<>""),OR(AND(F2="Pending",G2=""),AND(F2<>"Pending",OR(F2="Withdrawn",G2<>""))),OR(G2="",E2="",G2<=E2),Settings!$B$3>0,NOT(OR(Settings!$B$5="Manual review",AND(Settings!$B$5="US DST observed",OR(AND(D2<(DATE(YEAR(D2),3,8)+MOD(1-WEEKDAY(DATE(YEAR(D2),3,8)),7))+1,MAX(D2:E2,G2)>=(DATE(YEAR(D2),3,8)+MOD(1-WEEKDAY(DATE(YEAR(D2),3,8)),7))),AND(D2<(DATE(YEAR(D2),11,1)+MOD(1-WEEKDAY(DATE(YEAR(D2),11,1)),7))+1,MAX(D2:E2,G2)>=(DATE(YEAR(D2),11,1)+MOD(1-WEEKDAY(DATE(YEAR(D2),11,1)),7))),AND(D2<(DATE(YEAR(MAX(D2:E2,G2)),3,8)+MOD(1-WEEKDAY(DATE(YEAR(MAX(D2:E2,G2)),3,8)),7))+1,MAX(D2:E2,G2)>=(DATE(YEAR(MAX(D2:E2,G2)),3,8)+MOD(1-WEEKDAY(DATE(YEAR(MAX(D2:E2,G2)),3,8)),7))),AND(D2<(DATE(YEAR(MAX(D2:E2,G2)),11,1)+MOD(1-WEEKDAY(DATE(YEAR(MAX(D2:E2,G2)),11,1)),7))+1,MAX(D2:E2,G2)>=(DATE(YEAR(MAX(D2:E2,G2)),11,1)+MOD(1-WEEKDAY(DATE(YEAR(MAX(D2:E2,G2)),11,1)),7)))))))),"OK","Review input"),"Review input")) | L2: =IF(D2="","",IF(AND(ISNUMBER(D2),ISNUMBER(Settings!$B$3)),IF(Settings!$B$3>0,D2+Settings!$B$3/1440,""),"")) | N2: =IF('Open Shifts'!A2="","",'Open Shifts'!A2) | O2: =IF(Settings!D2="","",Settings!D2) | P2: =IF(Settings!F2="","",Settings!F2)
A3: Fictional Shift 01 | B3: 2 | C3: Fictional Guard 02 | D3: 46294.761 | E3: 46294.782 | F3: Accepted | G3: 46294.772 | H3: Fictional example: Accepted planned replacement only. | I3: =IF(AND(A3<>"",C3<>"",F3="Accepted",G3<>"",COUNTIF('Open Shifts'!$A$2:$A$101,A3)=1),A3,"") | J3: =IF(A3="","",IF(K3<>"OK","Review input",IF(F3<>"Pending",F3,IF(E3="","Set deadline",IF(Settings!$B$2="","Set review time",IF(E3<=Settings!$B$2,"Follow up","Await response")))))) | K3: =IF(COUNTA(A3:H3)=0,"",IF(AND(ISTEXT(A3),A3<>"",ISNUMBER(B3),ISNUMBER(D3),OR(E3="",ISNUMBER(E3)),OR(G3="",ISNUMBER(G3)),AND(OR(Settings!$B$2="",ISNUMBER(Settings!$B$2)),ISNUMBER(Settings!$B$3),Settings!$B$4<>"",OR(Settings!$B$5="US DST observed",Settings!$B$5="No DST",Settings!$B$5="Manual review"))),IF(AND(COUNTIF('Open Shifts'!$A$2:$A$101,A3)=1,B3>0,B3=INT(B3),COUNTIFS($A$2:$A$101,A3,$B$2:$B$101,B3)=1,COUNTIF(Settings!$D$2:$D$9,C3)=1,COUNTIF(Settings!$F$2:$F$6,F3)=1,OR(F3="Pending",F3="Accepted",F3="Declined",F3="No response",F3="Withdrawn"),D3>=1,OR(E3="",E3>=D3),OR(G3="",G3>=D3),OR(F3="Pending",E3<>""),OR(AND(F3="Pending",G3=""),AND(F3<>"Pending",OR(F3="Withdrawn",G3<>""))),OR(G3="",E3="",G3<=E3),Settings!$B$3>0,NOT(OR(Settings!$B$5="Manual review",AND(Settings!$B$5="US DST observed",OR(AND(D3<(DATE(YEAR(D3),3,8)+MOD(1-WEEKDAY(DATE(YEAR(D3),3,8)),7))+1,MAX(D3:E3,G3)>=(DATE(YEAR(D3),3,8)+MOD(1-WEEKDAY(DATE(YEAR(D3),3,8)),7))),AND(D3<(DATE(YEAR(D3),11,1)+MOD(1-WEEKDAY(DATE(YEAR(D3),11,1)),7))+1,MAX(D3:E3,G3)>=(DATE(YEAR(D3),11,1)+MOD(1-WEEKDAY(DATE(YEAR(D3),11,1)),7))),AND(D3<(DATE(YEAR(MAX(D3:E3,G3)),3,8)+MOD(1-WEEKDAY(DATE(YEAR(MAX(D3:E3,G3)),3,8)),7))+1,MAX(D3:E3,G3)>=(DATE(YEAR(MAX(D3:E3,G3)),3,8)+MOD(1-WEEKDAY(DATE(YEAR(MAX(D3:E3,G3)),3,8)),7))),AND(D3<(DATE(YEAR(MAX(D3:E3,G3)),11,1)+MOD(1-WEEKDAY(DATE(YEAR(MAX(D3:E3,G3)),11,1)),7))+1,MAX(D3:E3,G3)>=(DATE(YEAR(MAX(D3:E3,G3)),11,1)+MOD(1-WEEKDAY(DATE(YEAR(MAX(D3:E3,G3)),11,1)),7)))))))),"OK","Review input"),"Review input")) | L3: =IF(D3="","",IF(AND(ISNUMBER(D3),ISNUMBER(Settings!$B$3)),IF(Settings!$B$3>0,D3+Settings!$B$3/1440,""),"")) | N3: =IF('Open Shifts'!A3="","",'Open Shifts'!A3) | O3: =IF(Settings!D3="","",Settings!D3) | P3: =IF(Settings!F3="","",Settings!F3)
A4: Fictional Shift 02 | B4: 1 | C4: Fictional Guard 03 | D4: 46294.768 | E4: 46294.789 | F4: Pending | H4: Fictional example: Deadline passed; manual follow-up needed. | I4: =IF(AND(A4<>"",C4<>"",F4="Accepted",G4<>"",COUNTIF('Open Shifts'!$A$2:$A$101,A4)=1),A4,"") | J4: =IF(A4="","",IF(K4<>"OK","Review input",IF(F4<>"Pending",F4,IF(E4="","Set deadline",IF(Settings!$B$2="","Set review time",IF(E4<=Settings!$B$2,"Follow up","Await response")))))) | K4: =IF(COUNTA(A4:H4)=0,"",IF(AND(ISTEXT(A4),A4<>"",ISNUMBER(B4),ISNUMBER(D4),OR(E4="",ISNUMBER(E4)),OR(G4="",ISNUMBER(G4)),AND(OR(Settings!$B$2="",ISNUMBER(Settings!$B$2)),ISNUMBER(Settings!$B$3),Settings!$B$4<>"",OR(Settings!$B$5="US DST observed",Settings!$B$5="No DST",Settings!$B$5="Manual review"))),IF(AND(COUNTIF('Open Shifts'!$A$2:$A$101,A4)=1,B4>0,B4=INT(B4),COUNTIFS($A$2:$A$101,A4,$B$2:$B$101,B4)=1,COUNTIF(Settings!$D$2:$D$9,C4)=1,COUNTIF(Settings!$F$2:$F$6,F4)=1,OR(F4="Pending",F4="Accepted",F4="Declined",F4="No response",F4="Withdrawn"),D4>=1,OR(E4="",E4>=D4),OR(G4="",G4>=D4),OR(F4="Pending",E4<>""),OR(AND(F4="Pending",G4=""),AND(F4<>"Pending",OR(F4="Withdrawn",G4<>""))),OR(G4="",E4="",G4<=E4),Settings!$B$3>0,NOT(OR(Settings!$B$5="Manual review",AND(Settings!$B$5="US DST observed",OR(AND(D4<(DATE(YEAR(D4),3,8)+MOD(1-WEEKDAY(DATE(YEAR(D4),3,8)),7))+1,MAX(D4:E4,G4)>=(DATE(YEAR(D4),3,8)+MOD(1-WEEKDAY(DATE(YEAR(D4),3,8)),7))),AND(D4<(DATE(YEAR(D4),11,1)+MOD(1-WEEKDAY(DATE(YEAR(D4),11,1)),7))+1,MAX(D4:E4,G4)>=(DATE(YEAR(D4),11,1)+MOD(1-WEEKDAY(DATE(YEAR(D4),11,1)),7))),AND(D4<(DATE(YEAR(MAX(D4:E4,G4)),3,8)+MOD(1-WEEKDAY(DATE(YEAR(MAX(D4:E4,G4)),3,8)),7))+1,MAX(D4:E4,G4)>=(DATE(YEAR(MAX(D4:E4,G4)),3,8)+MOD(1-WEEKDAY(DATE(YEAR(MAX(D4:E4,G4)),3,8)),7))),AND(D4<(DATE(YEAR(MAX(D4:E4,G4)),11,1)+MOD(1-WEEKDAY(DATE(YEAR(MAX(D4:E4,G4)),11,1)),7))+1,MAX(D4:E4,G4)>=(DATE(YEAR(MAX(D4:E4,G4)),11,1)+MOD(1-WEEKDAY(DATE(YEAR(MAX(D4:E4,G4)),11,1)),7)))))))),"OK","Review input"),"Review input")) | L4: =IF(D4="","",IF(AND(ISNUMBER(D4),ISNUMBER(Settings!$B$3)),IF(Settings!$B$3>0,D4+Settings!$B$3/1440,""),"")) | N4: =IF('Open Shifts'!A4="","",'Open Shifts'!A4) | O4: =IF(Settings!D4="","",Settings!D4) | P4: =IF(Settings!F4="","",Settings!F4)
A5: Fictional Shift 02 | B5: 2 | C5: Fictional Guard 04 | D5: 46294.796 | E5: 46294.817 | F5: Pending | H5: Fictional example: Awaiting response at review time. | I5: =IF(AND(A5<>"",C5<>"",F5="Accepted",G5<>"",COUNTIF('Open Shifts'!$A$2:$A$101,A5)=1),A5,"") | J5: =IF(A5="","",IF(K5<>"OK","Review input",IF(F5<>"Pending",F5,IF(E5="","Set deadline",IF(Settings!$B$2="","Set review time",IF(E5<=Settings!$B$2,"Follow up","Await response")))))) | K5: =IF(COUNTA(A5:H5)=0,"",IF(AND(ISTEXT(A5),A5<>"",ISNUMBER(B5),ISNUMBER(D5),OR(E5="",ISNUMBER(E5)),OR(G5="",ISNUMBER(G5)),AND(OR(Settings!$B$2="",ISNUMBER(Settings!$B$2)),ISNUMBER(Settings!$B$3),Settings!$B$4<>"",OR(Settings!$B$5="US DST observed",Settings!$B$5="No DST",Settings!$B$5="Manual review"))),IF(AND(COUNTIF('Open Shifts'!$A$2:$A$101,A5)=1,B5>0,B5=INT(B5),COUNTIFS($A$2:$A$101,A5,$B$2:$B$101,B5)=1,COUNTIF(Settings!$D$2:$D$9,C5)=1,COUNTIF(Settings!$F$2:$F$6,F5)=1,OR(F5="Pending",F5="Accepted",F5="Declined",F5="No response",F5="Withdrawn"),D5>=1,OR(E5="",E5>=D5),OR(G5="",G5>=D5),OR(F5="Pending",E5<>""),OR(AND(F5="Pending",G5=""),AND(F5<>"Pending",OR(F5="Withdrawn",G5<>""))),OR(G5="",E5="",G5<=E5),Settings!$B$3>0,NOT(OR(Settings!$B$5="Manual review",AND(Settings!$B$5="US DST observed",OR(AND(D5<(DATE(YEAR(D5),3,8)+MOD(1-WEEKDAY(DATE(YEAR(D5),3,8)),7))+1,MAX(D5:E5,G5)>=(DATE(YEAR(D5),3,8)+MOD(1-WEEKDAY(DATE(YEAR(D5),3,8)),7))),AND(D5<(DATE(YEAR(D5),11,1)+MOD(1-WEEKDAY(DATE(YEAR(D5),11,1)),7))+1,MAX(D5:E5,G5)>=(DATE(YEAR(D5),11,1)+MOD(1-WEEKDAY(DATE(YEAR(D5),11,1)),7))),AND(D5<(DATE(YEAR(MAX(D5:E5,G5)),3,8)+MOD(1-WEEKDAY(DATE(YEAR(MAX(D5:E5,G5)),3,8)),7))+1,MAX(D5:E5,G5)>=(DATE(YEAR(MAX(D5:E5,G5)),3,8)+MOD(1-WEEKDAY(DATE(YEAR(MAX(D5:E5,G5)),3,8)),7))),AND(D5<(DATE(YEAR(MAX(D5:E5,G5)),11,1)+MOD(1-WEEKDAY(DATE(YEAR(MAX(D5:E5,G5)),11,1)),7))+1,MAX(D5:E5,G5)>=(DATE(YEAR(MAX(D5:E5,G5)),11,1)+MOD(1-WEEKDAY(DATE(YEAR(MAX(D5:E5,G5)),11,1)),7)))))))),"OK","Review input"),"Review input")) | L5: =IF(D5="","",IF(AND(ISNUMBER(D5),ISNUMBER(Settings!$B$3)),IF(Settings!$B$3>0,D5+Settings!$B$3/1440,""),"")) | N5: =IF('Open Shifts'!A5="","",'Open Shifts'!A5) | O5: =IF(Settings!D5="","",Settings!D5) | P5: =IF(Settings!F5="","",Settings!F5)
A6: Fictional Shift 03 | B6: 1 | C6: Fictional Guard 05 | D6: 46294.74 | E6: 46294.761 | F6: Accepted | G6: 46294.751 | H6: Fictional example: Overnight planned replacement only. | I6: =IF(AND(A6<>"",C6<>"",F6="Accepted",G6<>"",COUNTIF('Open Shifts'!$A$2:$A$101,A6)=1),A6,"") | J6: =IF(A6="","",IF(K6<>"OK","Review input",IF(F6<>"Pending",F6,IF(E6="","Set deadline",IF(Settings!$B$2="","Set review time",IF(E6<=Settings!$B$2,"Follow up","Await response")))))) | K6: =IF(COUNTA(A6:H6)=0,"",IF(AND(ISTEXT(A6),A6<>"",ISNUMBER(B6),ISNUMBER(D6),OR(E6="",ISNUMBER(E6)),OR(G6="",ISNUMBER(G6)),AND(OR(Settings!$B$2="",ISNUMBER(Settings!$B$2)),ISNUMBER(Settings!$B$3),Settings!$B$4<>"",OR(Settings!$B$5="US DST observed",Settings!$B$5="No DST",Settings!$B$5="Manual review"))),IF(AND(COUNTIF('Open Shifts'!$A$2:$A$101,A6)=1,B6>0,B6=INT(B6),COUNTIFS($A$2:$A$101,A6,$B$2:$B$101,B6)=1,COUNTIF(Settings!$D$2:$D$9,C6)=1,COUNTIF(Settings!$F$2:$F$6,F6)=1,OR(F6="Pending",F6="Accepted",F6="Declined",F6="No response",F6="Withdrawn"),D6>=1,OR(E6="",E6>=D6),OR(G6="",G6>=D6),OR(F6="Pending",E6<>""),OR(AND(F6="Pending",G6=""),AND(F6<>"Pending",OR(F6="Withdrawn",G6<>""))),OR(G6="",E6="",G6<=E6),Settings!$B$3>0,NOT(OR(Settings!$B$5="Manual review",AND(Settings!$B$5="US DST observed",OR(AND(D6<(DATE(YEAR(D6),3,8)+MOD(1-WEEKDAY(DATE(YEAR(D6),3,8)),7))+1,MAX(D6:E6,G6)>=(DATE(YEAR(D6),3,8)+MOD(1-WEEKDAY(DATE(YEAR(D6),3,8)),7))),AND(D6<(DATE(YEAR(D6),11,1)+MOD(1-WEEKDAY(DATE(YEAR(D6),11,1)),7))+1,MAX(D6:E6,G6)>=(DATE(YEAR(D6),11,1)+MOD(1-WEEKDAY(DATE(YEAR(D6),11,1)),7))),AND(D6<(DATE(YEAR(MAX(D6:E6,G6)),3,8)+MOD(1-WEEKDAY(DATE(YEAR(MAX(D6:E6,G6)),3,8)),7))+1,MAX(D6:E6,G6)>=(DATE(YEAR(MAX(D6:E6,G6)),3,8)+MOD(1-WEEKDAY(DATE(YEAR(MAX(D6:E6,G6)),3,8)),7))),AND(D6<(DATE(YEAR(MAX(D6:E6,G6)),11,1)+MOD(1-WEEKDAY(DATE(YEAR(MAX(D6:E6,G6)),11,1)),7))+1,MAX(D6:E6,G6)>=(DATE(YEAR(MAX(D6:E6,G6)),11,1)+MOD(1-WEEKDAY(DATE(YEAR(MAX(D6:E6,G6)),11,1)),7)))))))),"OK","Review input"),"Review input")) | L6: =IF(D6="","",IF(AND(ISNUMBER(D6),ISNUMBER(Settings!$B$3)),IF(Settings!$B$3>0,D6+Settings!$B$3/1440,""),"")) | N6: =IF('Open Shifts'!A6="","",'Open Shifts'!A6) | O6: =IF(Settings!D6="","",Settings!D6) | P6: =IF(Settings!F6="","",Settings!F6)
A7: Fictional Shift 04 | B7: 1 | C7: Fictional Guard 06 | D7: 46294.719 | E7: 46294.74 | F7: Declined | G7: 46294.733 | H7: Fictional example: Declined; additional offers recorded. | I7: =IF(AND(A7<>"",C7<>"",F7="Accepted",G7<>"",COUNTIF('Open Shifts'!$A$2:$A$101,A7)=1),A7,"") | J7: =IF(A7="","",IF(K7<>"OK","Review input",IF(F7<>"Pending",F7,IF(E7="","Set deadline",IF(Settings!$B$2="","Set review time",IF(E7<=Settings!$B$2,"Follow up","Await response")))))) | K7: =IF(COUNTA(A7:H7)=0,"",IF(AND(ISTEXT(A7),A7<>"",ISNUMBER(B7),ISNUMBER(D7),OR(E7="",ISNUMBER(E7)),OR(G7="",ISNUMBER(G7)),AND(OR(Settings!$B$2="",ISNUMBER(Settings!$B$2)),ISNUMBER(Settings!$B$3),Settings!$B$4<>"",OR(Settings!$B$5="US DST observed",Settings!$B$5="No DST",Settings!$B$5="Manual review"))),IF(AND(COUNTIF('Open Shifts'!$A$2:$A$101,A7)=1,B7>0,B7=INT(B7),COUNTIFS($A$2:$A$101,A7,$B$2:$B$101,B7)=1,COUNTIF(Settings!$D$2:$D$9,C7)=1,COUNTIF(Settings!$F$2:$F$6,F7)=1,OR(F7="Pending",F7="Accepted",F7="Declined",F7="No response",F7="Withdrawn"),D7>=1,OR(E7="",E7>=D7),OR(G7="",G7>=D7),OR(F7="Pending",E7<>""),OR(AND(F7="Pending",G7=""),AND(F7<>"Pending",OR(F7="Withdrawn",G7<>""))),OR(G7="",E7="",G7<=E7),Settings!$B$3>0,NOT(OR(Settings!$B$5="Manual review",AND(Settings!$B$5="US DST observed",OR(AND(D7<(DATE(YEAR(D7),3,8)+MOD(1-WEEKDAY(DATE(YEAR(D7),3,8)),7))+1,MAX(D7:E7,G7)>=(DATE(YEAR(D7),3,8)+MOD(1-WEEKDAY(DATE(YEAR(D7),3,8)),7))),AND(D7<(DATE(YEAR(D7),11,1)+MOD(1-WEEKDAY(DATE(YEAR(D7),11,1)),7))+1,MAX(D7:E7,G7)>=(DATE(YEAR(D7),11,1)+MOD(1-WEEKDAY(DATE(YEAR(D7),11,1)),7))),AND(D7<(DATE(YEAR(MAX(D7:E7,G7)),3,8)+MOD(1-WEEKDAY(DATE(YEAR(MAX(D7:E7,G7)),3,8)),7))+1,MAX(D7:E7,G7)>=(DATE(YEAR(MAX(D7:E7,G7)),3,8)+MOD(1-WEEKDAY(DATE(YEAR(MAX(D7:E7,G7)),3,8)),7))),AND(D7<(DATE(YEAR(MAX(D7:E7,G7)),11,1)+MOD(1-WEEKDAY(DATE(YEAR(MAX(D7:E7,G7)),11,1)),7))+1,MAX(D7:E7,G7)>=(DATE(YEAR(MAX(D7:E7,G7)),11,1)+MOD(1-WEEKDAY(DATE(YEAR(MAX(D7:E7,G7)),11,1)),7)))))))),"OK","Review input"),"Review input")) | L7: =IF(D7="","",IF(AND(ISNUMBER(D7),ISNUMBER(Settings!$B$3)),IF(Settings!$B$3>0,D7+Settings!$B$3/1440,""),"")) | N7: =IF('Open Shifts'!A7="","",'Open Shifts'!A7) | O7: =IF(Settings!D7="","",Settings!D7) | P7: =""
A8: Fictional Shift 04 | B8: 2 | C8: Fictional Guard 07 | D8: 46294.747 | E8: 46294.768 | F8: Accepted | G8: 46294.758 | H8: Fictional example: One of two acceptances; manual review. | I8: =IF(AND(A8<>"",C8<>"",F8="Accepted",G8<>"",COUNTIF('Open Shifts'!$A$2:$A$101,A8)=1),A8,"") | J8: =IF(A8="","",IF(K8<>"OK","Review input",IF(F8<>"Pending",F8,IF(E8="","Set deadline",IF(Settings!$B$2="","Set review time",IF(E8<=Settings!$B$2,"Follow up","Await response")))))) | K8: =IF(COUNTA(A8:H8)=0,"",IF(AND(ISTEXT(A8),A8<>"",ISNUMBER(B8),ISNUMBER(D8),OR(E8="",ISNUMBER(E8)),OR(G8="",ISNUMBER(G8)),AND(OR(Settings!$B$2="",ISNUMBER(Settings!$B$2)),ISNUMBER(Settings!$B$3),Settings!$B$4<>"",OR(Settings!$B$5="US DST observed",Settings!$B$5="No DST",Settings!$B$5="Manual review"))),IF(AND(COUNTIF('Open Shifts'!$A$2:$A$101,A8)=1,B8>0,B8=INT(B8),COUNTIFS($A$2:$A$101,A8,$B$2:$B$101,B8)=1,COUNTIF(Settings!$D$2:$D$9,C8)=1,COUNTIF(Settings!$F$2:$F$6,F8)=1,OR(F8="Pending",F8="Accepted",F8="Declined",F8="No response",F8="Withdrawn"),D8>=1,OR(E8="",E8>=D8),OR(G8="",G8>=D8),OR(F8="Pending",E8<>""),OR(AND(F8="Pending",G8=""),AND(F8<>"Pending",OR(F8="Withdrawn",G8<>""))),OR(G8="",E8="",G8<=E8),Settings!$B$3>0,NOT(OR(Settings!$B$5="Manual review",AND(Settings!$B$5="US DST observed",OR(AND(D8<(DATE(YEAR(D8),3,8)+MOD(1-WEEKDAY(DATE(YEAR(D8),3,8)),7))+1,MAX(D8:E8,G8)>=(DATE(YEAR(D8),3,8)+MOD(1-WEEKDAY(DATE(YEAR(D8),3,8)),7))),AND(D8<(DATE(YEAR(D8),11,1)+MOD(1-WEEKDAY(DATE(YEAR(D8),11,1)),7))+1,MAX(D8:E8,G8)>=(DATE(YEAR(D8),11,1)+MOD(1-WEEKDAY(DATE(YEAR(D8),11,1)),7))),AND(D8<(DATE(YEAR(MAX(D8:E8,G8)),3,8)+MOD(1-WEEKDAY(DATE(YEAR(MAX(D8:E8,G8)),3,8)),7))+1,MAX(D8:E8,G8)>=(DATE(YEAR(MAX(D8:E8,G8)),3,8)+MOD(1-WEEKDAY(DATE(YEAR(MAX(D8:E8,G8)),3,8)),7))),AND(D8<(DATE(YEAR(MAX(D8:E8,G8)),11,1)+MOD(1-WEEKDAY(DATE(YEAR(MAX(D8:E8,G8)),11,1)),7))+1,MAX(D8:E8,G8)>=(DATE(YEAR(MAX(D8:E8,G8)),11,1)+MOD(1-WEEKDAY(DATE(YEAR(MAX(D8:E8,G8)),11,1)),7)))))))),"OK","Review input"),"Review input")) | L8: =IF(D8="","",IF(AND(ISNUMBER(D8),ISNUMBER(Settings!$B$3)),IF(Settings!$B$3>0,D8+Settings!$B$3/1440,""),"")) | N8: =IF('Open Shifts'!A8="","",'Open Shifts'!A8) | O8: =IF(Settings!D8="","",Settings!D8) | P8: =""
A9: Fictional Shift 04 | B9: 3 | C9: Fictional Guard 08 | D9: 46294.775 | E9: 46294.796 | F9: Accepted | G9: 46294.785 | H9: Fictional example: Second acceptance; manual review. | I9: =IF(AND(A9<>"",C9<>"",F9="Accepted",G9<>"",COUNTIF('Open Shifts'!$A$2:$A$101,A9)=1),A9,"") | J9: =IF(A9="","",IF(K9<>"OK","Review input",IF(F9<>"Pending",F9,IF(E9="","Set deadline",IF(Settings!$B$2="","Set review time",IF(E9<=Settings!$B$2,"Follow up","Await response")))))) | K9: =IF(COUNTA(A9:H9)=0,"",IF(AND(ISTEXT(A9),A9<>"",ISNUMBER(B9),ISNUMBER(D9),OR(E9="",ISNUMBER(E9)),OR(G9="",ISNUMBER(G9)),AND(OR(Settings!$B$2="",ISNUMBER(Settings!$B$2)),ISNUMBER(Settings!$B$3),Settings!$B$4<>"",OR(Settings!$B$5="US DST observed",Settings!$B$5="No DST",Settings!$B$5="Manual review"))),IF(AND(COUNTIF('Open Shifts'!$A$2:$A$101,A9)=1,B9>0,B9=INT(B9),COUNTIFS($A$2:$A$101,A9,$B$2:$B$101,B9)=1,COUNTIF(Settings!$D$2:$D$9,C9)=1,COUNTIF(Settings!$F$2:$F$6,F9)=1,OR(F9="Pending",F9="Accepted",F9="Declined",F9="No response",F9="Withdrawn"),D9>=1,OR(E9="",E9>=D9),OR(G9="",G9>=D9),OR(F9="Pending",E9<>""),OR(AND(F9="Pending",G9=""),AND(F9<>"Pending",OR(F9="Withdrawn",G9<>""))),OR(G9="",E9="",G9<=E9),Settings!$B$3>0,NOT(OR(Settings!$B$5="Manual review",AND(Settings!$B$5="US DST observed",OR(AND(D9<(DATE(YEAR(D9),3,8)+MOD(1-WEEKDAY(DATE(YEAR(D9),3,8)),7))+1,MAX(D9:E9,G9)>=(DATE(YEAR(D9),3,8)+MOD(1-WEEKDAY(DATE(YEAR(D9),3,8)),7))),AND(D9<(DATE(YEAR(D9),11,1)+MOD(1-WEEKDAY(DATE(YEAR(D9),11,1)),7))+1,MAX(D9:E9,G9)>=(DATE(YEAR(D9),11,1)+MOD(1-WEEKDAY(DATE(YEAR(D9),11,1)),7))),AND(D9<(DATE(YEAR(MAX(D9:E9,G9)),3,8)+MOD(1-WEEKDAY(DATE(YEAR(MAX(D9:E9,G9)),3,8)),7))+1,MAX(D9:E9,G9)>=(DATE(YEAR(MAX(D9:E9,G9)),3,8)+MOD(1-WEEKDAY(DATE(YEAR(MAX(D9:E9,G9)),3,8)),7))),AND(D9<(DATE(YEAR(MAX(D9:E9,G9)),11,1)+MOD(1-WEEKDAY(DATE(YEAR(MAX(D9:E9,G9)),11,1)),7))+1,MAX(D9:E9,G9)>=(DATE(YEAR(MAX(D9:E9,G9)),11,1)+MOD(1-WEEKDAY(DATE(YEAR(MAX(D9:E9,G9)),11,1)),7)))))))),"OK","Review input"),"Review input")) | L9: =IF(D9="","",IF(AND(ISNUMBER(D9),ISNUMBER(Settings!$B$3)),IF(Settings!$B$3>0,D9+Settings!$B$3/1440,""),"")) | N9: =IF('Open Shifts'!A9="","",'Open Shifts'!A9) | O9: =IF(Settings!D9="","",Settings!D9) | P9: =""
